Workbook

Sheet Munka1
B2: Tabelul nr.1a. – Oferta educaţională a Universităţii Sapientia la nivel de licență pentru anul universitar 2025/2026
B3: Facultatea | C3: Denumirea programului de studiu | D3: Situaţia programului de studiu | E3: Anul de evaluarea internă/externă, reevaluare
D4: A-acreditat; AP- autorizat provizoriu
D5: RA- reacreditat
B6: 1 | C6: 2 | D6: 3 | E6: 4
B7: Facultatea de Ştiinţe şi Arte din Cluj-Napoca | C7: Relaţii internaţionale şi studii europene | D7: RA - reacreditat | E7: 2028
C8: Cinematografie, Fotografie, Media - CAV | D8: RA - reacreditat | E8: 2029
C9: Cinematografie, Fotografie, Media - IMG | D9: RA - reacreditat | E9: 2029
C10: Cinematografie, Fotografie, Media - REG | D10: RA - reacreditat | E10: 2029
C11: Ştiinţa mediului | D11: RA - reacreditat | E11: 2030
C12: Drept | D12: A - acreditat | E12: 2029
C13: Artele spectacolului (coregrafie) | D13: A - acreditat | E13: 2030
B15: Tabelul nr.1b. – Oferta educaţională a Universităţii Sapientia la nivel de master pentru anul universitar 2025/2026
B16: Facultatea | C16: Denumirea programului de studiu şi al domeniului acreditat | D16: Universitatea/Universitățile partenere | E16: Anul pentru evaluarea internă/externă
E17: reevaluare
B18: 1 | C18: 2 | D18: 3 | E18: 4
B19: Facultatea de Ştiinţe şi Arte din Cluj-Napoca | C19: Diplomație și studii interculturale, Domeniul: Relaţii internaţionale şi studii europene | E19: 2030
C20: Relații internaționale și geopolitică, Domeniul: Relaţii internaţionale şi studii europene | E20: 2030
C21: Studii de film, Domeniul: Cinematografie, fotografie, media; | E21: 2026
C22: Protecția și monitorizarea mediului, Domeniul: Știința mediului | E22: 2026
C23: Carieră judiciară, Domeniul: Drept | E23: 2026

Sheet Munka2
A1: Tabelul 2.1a. Situaţia cadrelor didactice titularizate în învăţământul superior cu activităţi didactice (număr persoane) pentru anul universitar 2025/2026
A2: Facultatea | B2: Departamentul | C2: Prof. | F2: Conf. | I2: Lector/ | L2: Asist. | O2: Prep | P2: Total cadre didactice | Q2: Total cadre didactice cu norma de bază în Universitate
I3: Şef lucr.
C4: Norma de bază | D4: Asociat cu contract durată determinată | E4: Plata cu ora | F4: Norma de bază | G4: Asociat cu contract durată determinată | H4: Plata cu ora | I4: Norma de bază | J4: Asociat cu contract durată determinată | K4: Plata cu ora | L4: Norma de bază | M4: Asociat cu contract durată determinată | N4: Plata cu ora | O4: Norma de bază | R4: társultak | S4: óraadók
A5: 1 | B5: 2 | C5: 3.1 | D5: 3.2 | E5: 3.3 | F5: 4.1 | G5: 4.2 | H5: 4.3 | I5: 5.1 | J5: 5.2 | K5: 5.3 | L5: 6.1 | M5: 6.2 | N5: 6.3 | O5: 7 | P5: 8 | Q5: 9
A6: de Ştiinţe şi Arte Cluj-Napoca | B6: Rel. Int. și Studii Europene | C6: 1 | D6: 0 | E6: 0 | F6: 4 | G6: 0 | H6: 1 | I6: 4 | J6: 0 | K6: 4 | L6: 0 | M6: 0 | N6: 4 | O6: 0 | P6: =SUM(C6:O6) -> 18 | Q6: =C6+F6+I6+L6+O6 -> 9 | R6: =D6+G6+J6+M6 -> 0 | S6: =E6+H6+K6+N6 -> 9
B7: Ştiinţe Juridice | C7: 2 | D7: 0 | E7: 0 | F7: 3 | G7: 2 | H7: 0 | I7: 6 | J7: 0 | K7: 2 | L7: 0 | M7: 0 | N7: 4 | O7: 0 | P7: =SUM(C7:O7) -> 19 | Q7: =C7+F7+I7+L7+O7 -> 11 | R7: =D7+G7+J7+M7 -> 2 | S7: =E7+H7+K7+N7 -> 6
B8: Media | C8: 1 | D8: 1 | E8: 0 | F8: 5 | G8: 6 | H8: 1 | I8: 5 | J8: 5 | K8: 6 | L8: 2 | M8: 2 | N8: 16 | O8: 0 | P8: =SUM(C8:O8) -> 50 | Q8: =C8+F8+I8+L8+O8 -> 13 | R8: =D8+G8+J8+M8 -> 14 | S8: =E8+H8+K8+N8 -> 23
B9: Ştiinţa Mediului | C9: 1 | D9: 1 | E9: 1 | F9: 1 | G9: 0 | H9: 3 | I9: 5 | J9: 0 | K9: 5 | L9: 0 | M9: 0 | N9: 0 | O9: 0 | P9: =SUM(C9:O9) -> 17 | Q9: =C9+F9+I9+L9+O9 -> 7 | R9: =D9+G9+J9+M9 -> 1 | S9: =E9+H9+K9+N9 -> 9
A10: Total facultate | C10: =SUM(C6:C9) -> 5 | D10: =SUM(D6:D9) -> 2 | E10: =SUM(E6:E9) -> 1 | F10: =SUM(F6:F9) -> 13 | G10: =SUM(G6:G9) -> 8 | H10: =SUM(H6:H9) -> 5 | I10: =SUM(I6:I9) -> 20 | J10: =SUM(J6:J9) -> 5 | ... Q10: =SUM(Q6:Q9) -> 40 | R10: =D10+G10+J10+M10 -> 17 | S10: =E10+H10+K10+N10 -> 47

Sheet Munka3
A1: Tabelul 2.1b. Situaţia cadrelor didactice netitularizate în învăţământul superior, cu titlul recunoscut de Senat la nivelul facultăților pentru anul universitar 2025/2026
A2: Facultatea | B2: Departamentul | C2: Numele și prenumele | D2: Funcția recunoscută
A3: 1 | B3: 2 | C3: 3 | D3: 4
A4: Științe și Arte din Cluj-Napoca | B4: Relații Internaționale și Studii Europene | C4: Anca Filipovici | D4: Lector universitar
C5: Laczkó Rita | D5: Lector universitar
C6: Robert C. Castel | D6: Lector universitar
C7: Szabó Lilla | D7: Lector universitar
C8: Baricz Ágnes | D8: Asistent universitar
C9: Móritz Kinga Eva | D9: Asistent universitar
C10: Kiss Gergely Antal | D10: Asistent universitar
C11: Török Ferenc | D11: Asistent universitar
B12: Științe Juridice | C12: Bartis Előd | D12: Asistent universitar
C13: Ilyés Kinga | D13: Asistent universitar
C14: Nagy Gellért | D14: Asistent universitar
C15: Füzi Norbert | D15: Asistent universitar
B16: Media | C16: Bakk Ágnes Karolina | D16: Lector universitar
C17: Benedek Árpád | D17: Asistent universitar
C18: Böjthe Alex | D18: Asistent universitar
C19: Janisch Attila | D19: Conferențiar universitar
C20: Márton László | D20: Asistent universitar
C21: Czont Attila | D21: Asistent universitar
C22: Jakab Melinda | D22: Asistent universitar
C23: Juhász Csilla | D23: Asistent universitar
C24: Karácsony Zoltán | D24: Lector universitar
C25: Kelemen László | D25: Lector universitar
C26: Lakatos Mihály | D26: Asistent universitar
C27: Maly Róbert | D27: Asistent universitar
C28: Muresan Alice | D28: Asistent universitar
... C37: Orbán Csala | D37: Asistent universitar
B38: Ştiința Mediului | C38: Farkas György | D38: Lector universitar
C39: Ábrán Péter | D39: Lector universitar

Sheet Munka4
A2: Tabelul 2.2. Situaţia posturilor conform Statelor de funcţii ale departamentelor în anul universitar 2025/2026 CSAK A FŐÁLLÁSÚAK SZÁMÍTANAK FOGLALT ÁLLÁSNAK
A3: Facultatea | B3: Departamentul | C3: Prof. | F3: Conf. | I3: Lector/Şef lucrări | L3: Asist. | O3: Total posturi | P3: Total posturi ocupate
C5: Total | D5: Ocupat | E5: Vacant | F5: Total | G5: Ocupat | H5: Vacant | I5: Total | J5: Ocupat | K5: Vacant | L5: Total | M5: Ocupat | N5: Vacant
A6: 1 | B6: 2 | C6: 3.1 | D6: 3.2 | E6: 3.3 | F6: 4.1 | G6: 4.2 | H6: 4.3 | I6: 5.1 | J6: 5.2 | K6: 5.3 | L6: 6.1 | M6: 6.2 | N6: 6.3 | O6: 8 | P6: 9
A7: de Ştiinţe şi Arte Cluj Napoca | B7: Rel. Int. și Studii Europene | C7: 1 | D7: 1 | E7: 0 | F7: 6 | G7: 4 | H7: 2 | I7: 6 | J7: 4 | K7: 2 | L7: 2 | M7: 0 | N7: 2 | O7: =C7+F7+I7+L7 -> 15 | P7: =D7+G7+J7+M7 -> 9
B8: Științe Juridice | C8: 3 | D8: 2 | E8: 1 | F8: 4 | G8: 3 | H8: 1 | I8: 9 | J8: 6 | K8: 3 | L8: 0 | M8: 0 | N8: 0 | O8: =C8+F8+I8+L8 -> 16 | P8: =D8+G8+J8+M8 -> 11
B9: Media | C9: 1 | D9: 1 | E9: 0 | F9: 7 | G9: 5 | H9: 2 | I9: 10 | J9: 5 | K9: 5 | L9: 4 | M9: 2 | N9: 2 | O9: =C9+F9+I9+L9 -> 22 | P9: =D9+G9+J9+M9 -> 13
B10: Ştiinţa Mediului | C10: 1 | D10: 1 | E10: 0 | F10: 3 | G10: 1 | H10: 2 | I10: 8 | J10: 5 | K10: 3 | L10: 0 | M10: 0 | N10: 0 | O10: =C10+F10+I10+L10 -> 12 | P10: =D10+G10+J10+M10 -> 7
A11: Total facultate | C11: =SUM(C7:C10) -> 6 | D11: =SUM(D7:D10) -> 5 | E11: =SUM(E7:E10) -> 1 | F11: =SUM(F7:F10) -> 20 | G11: =SUM(G7:G10) -> 13 | H11: =SUM(H7:H10) -> 7 | I11: =SUM(I7:I10) -> 33 | J11: =SUM(J7:J10) -> 20 | ... P11: =SUM(P7:P10) -> 40
C18: Total posturi | D18: Total posturi ocupate | E18: Procent
A19: de Ştiinţe şi Arte Cluj Napoca | B19: Rel. Int. și Studii Europene | C19: =O7 -> 15 | D19: =P7 -> 9 | E19: =D19/C19 -> 0.6
B20: Științe Juridice | C20: =O8 -> 16 | D20: =P8 -> 11 | E20: =D20/C20 -> 0.6875
B21: Media | C21: =O9 -> 22 | D21: =P9 -> 13 | E21: =D21/C21 -> 0.59090909
B22: Ştiinţa Mediului | C22: =O10 -> 12 | D22: =P10 -> 7 | E22: =D22/C22 -> 0.58333333

Sheet Munka6
B3: Tabelul 2.4. Media de vârstă a cadrelor didactice titulare conform statelor de funcții ale departamentelor pentru universitar 2025/2026
B4: Facultatea | C4: Departamentul | D4: Prof. | F4: Conf. | H4: Lector/ | J4: Asist. | L4: Media ponderată pe departament
H5: Şef lucr.
D6: Nr. fizic. | E6: Media de vârstă | F6: Nr. fizic. | G6: Media de vârstă | H6: Nr. fizic. | I6: Media de vârstă | J6: Nr. fizic. | K6: Media de vârstă
B7: 1 | C7: 2 | D7: 3.1 | E7: 3.2 | F7: 4.1 | G7: 4.2 | H7: 5.1 | I7: 5.2 | J7: 6.1 | K7: 6.2 | L7: 8
B8: de Ştiinţe şi Arte din Cluj-Napoca | C8: Studii Europene | D8: 1 | E8: 51 | F8: 4 | G8: 48 | H8: 4 | I8: 39.25 | J8: 0 | K8: 0 | L8: =(D8*E8+F8*G8+H8*I8+J8*K8)/SUM(D8,F8,H8,J8) -> 44.444444
C9: Şt. Juridice | D9: 2 | E9: 48 | F9: 3 | G9: 55 | H9: 6 | I9: 44.3 | J9: 0 | K9: 0 | L9: =(D9*E9+F9*G9+H9*I9+J9*K9)/SUM(D9,F9,H9,J9) -> 47.890909
C10: Media | D10: 1 | E10: 64 | F10: 5 | G10: 50.6 | H10: 5 | I10: 44.2 | J10: 2 | K10: 41 | L10: =(D10*E10+F10*G10+H10*I10+J10*K10)/SUM(D10,F10,H10,J10) -> 47.692308
C11: Ştiinţa Mediului | D11: 1 | E11: 70 | F11: 1 | G11: 47 | H11: 5 | I11: 47 | J11: 0 | K11: 0 | L11: =(D11*E11+F11*G11+H11*I11+J11*K11)/SUM(D11,F11,H11,J11) -> 50.285714 | M11: =AVERAGE(L8:L11) -> 47.578344

Sheet Munka7
A2: Tabelul 2.5. Situaţia cadrelor didactice pensionate (nr. persoane) care desfăşoară activitate didactică în anul universitar 2025/2026
A3: Facultatea | B3: Departamentul | C3: Nr. cadre didactice pensionate | F3: Modul de suplinire a orelor
C4: Cu titlul de profesor | D4: Cu titlul de conferenţiar | E4: Lector | F4: Plata cu ora | G4: Contract de muncă pe perioadă determinată
A5: de Științe și Arte din Cluj-Napoca | B5: Media | C5: 0 | D5: 0 | E5: 0 | F5: 0 | G5: 0
B6: Ştiinţa Mediului | C6: 1 | D6: 0 | E6: 0 | F6: 0 | G6: 0
B7: Științe juridice | C7: 0 | D7: 0 | E7: 0 | F7: 0 | G7: 0
B8: Rel. Int. și Studii Europene | C8: 0 | D8: 0 | E8: 0 | F8: 0 | G8: 0
B9: Total facultate | C9: =C5+C6+C7+C8 -> 1 | D9: =D5+D6+D7+D8 -> 0 | E9: =E5+E6+E7+E8 -> 0 | F9: =F5+F6+F7+F8 -> 0 | G9: =G5+G6+G7+G8 -> 0
B12: prof | C12: conf | D12: lector | E12: plata cu ora | F12: contract de munca
A13: FSA | B13: 1 | C13: 0 | D13: 0 | E13: 0 | F13: 0

Sheet Munka8
A2: Tabelul 3.1. Situaţia elaborării materialelor didactice care acoperă în întregime/parţial problemetica disciplinei de către cadrele didactice din departamente (situație globală la data de 31 decembrie 2025 numeric şi lista ataşată)
A3: Facultatea | B3: Departamentul | C3: Materiale apărute în edituri cu ISBN care acoperă integral sau parţial problemetica disciplinelor | Q3: Alte materiale didactice elaborate de cadrele didactice şi aprobate în departament, accesibile în bibliotecă sau pe site/intranet | S3: Total
C4: Carte de specialitate | E4: Manuale universitare | G4: Cursuri universitare | I4: Îndrumare laborator, de proiectare si calcule tehnologice | K4: Culegeri de probleme | M4: Dicţionare, comp. texte. | O4: Culegeri de texte
C5: T | D5: E | E5: T | F5: E | G5: T | H5: E | I5: T | J5: E | K5: T | L5: E | M5: T | N5: E | O5: T | P5: E | Q5: T | R5: E | S5: T | T5: E | U5: T | V5: Tipărit
A6: de Științe și Arte din Cluj-Napoca | B6: Rel. Int. și Studii Europene | C6: 20 | D6: 2 | E6: 1 | F6: 0 | G6: 5 | H6: 0 | I6: 1 | J6: 0 | K6: 0 | L6: 0 | M6: 0 | N6: 0 | O6: 6 | P6: 11 | Q6: 0 | R6: 28 | S6: =C6+E6+G6+I6+K6+M6+O6+Q6 -> 33 | T6: =D6+F6+H6+J6+L6+N6+P6+R6 -> 41 | U6: E | V6: Format digital
B7: Ştiinţe Juridice | C7: 95 | D7: 0 | E7: 31 | F7: 0 | G7: 26 | H7: 0 | I7: 0 | J7: 0 | K7: 0 | L7: 0 | M7: 0 | N7: 0 | O7: 1 | P7: 1 | Q7: 0 | R7: 0 | S7: =C7+E7+G7+I7+K7+M7+O7+Q7 -> 153 | T7: =D7+F7+H7+J7+L7+N7+P7+R7 -> 1
B8: Media | C8: 64 | D8: 0 | E8: 0 | F8: 0 | G8: 8 | H8: 0 | I8: 0 | J8: 0 | K8: 0 | L8: 0 | M8: 1 | N8: 0 | O8: 9 | P8: 0 | Q8: 59 | R8: 23 | S8: =C8+E8+G8+I8+K8+M8+O8+Q8 -> 141 | T8: =D8+F8+H8+J8+L8+N8+P8+R8 -> 23
B9: Ştiinţa Mediului | C9: 22 | D9: 0 | E9: 3 | F9: 2 | G9: 0 | H9: 30 | I9: 6 | J9: 0 | K9: 0 | L9: 0 | M9: 1 | N9: 0 | O9: 6 | P9: 0 | Q9: 3 | R9: 2 | S9: =C9+E9+G9+I9+K9+M9+O9+Q9 -> 41 | T9: =D9+F9+H9+J9+L9+N9+P9+R9 -> 34
B10: Total facultate | C10: =SUM(C6:C9) -> 201 | D10: =SUM(D6:D9) -> 2 | E10: =SUM(E6:E9) -> 35 | F10: =SUM(F6:F9) -> 2 | G10: =SUM(G6:G9) -> 39 | H10: =SUM(H6:H9) -> 30 | I10: =SUM(I6:I9) -> 7 | J10: =SUM(J6:J9) -> 0 | ... T10: =SUM(T6:T9) -> 99
C12: carti T | D12: carti E | E12: manuale T | F12: manuale E | G12: cursuri T | H12: cursuri E | I12: indrumar T | J12: indrumar E | K12: culegeri T | L12: culegeri E | M12: dict T | N12: dict E | O12: culeg T | P12: culeg E | Q12: alte T | R12: alte E | S12: total T | T12: total E
B13: FSA | C13: =C10 -> 201 | D13: =D10 -> 2 | E13: =E10 -> 35 | F13: =F10 -> 2 | G13: =G10 -> 39 | H13: =H10 -> 30 | I13: =I10 -> 7 | J13: =J10 -> 0 | ... T13: =T10 -> 99

Sheet Munka9
A3: Tabel 3.2a. Evaluarea atmosferei de lucru din departamente la nivelul anului universitar 2025/2026, în baza evaluării colegiale
A4: Facultatea | B4: Departament | C4: %
C5: Activ | D5: Cooperant | E5: Altruist | F5: Facilitează relaţiile | G5: Creativ | H5: Obiectiv | I5: Consecvent | J5: Punct de vedere hotărât | K5: Media
A6: Știinte și Arte din Cluj-Napoca | B6: Rel. Int. și Studii Europene | C6: 0.95 | D6: 0.93 | E6: 0.97 | F6: 0.96 | G6: 0.93 | H6: 1 | I6: 0.96 | J6: 0.97 | K6: =(C6+D6+E6+F6+G6+H6+I6+J6)/8 -> 0.95875
B7: Ştiinţe Juridice | C7: 0.889 | D7: 0.9246 | E7: 0.8244 | F7: 0.8736 | G7: 0.853 | H7: 0.9868 | I7: 0.989 | J7: 0.9756 | K7: =(C7+D7+E7+F7+G7+H7+I7+J7)/8 -> 0.9145
B8: Media | C8: 0.988 | D8: 0.988 | E8: 0.984 | F8: 0.987 | G8: 0.995 | H8: 0.991 | I8: 0.988 | J8: 0.996 | K8: =(C8+D8+E8+F8+G8+H8+I8+J8)/8 -> 0.989625
B9: Ştiinţa Mediului | C9: 0.8857 | D9: 0.971 | E9: 1 | F9: 0.942 | G9: 0.914 | H9: 0.942 | I9: 0.971 | J9: 0.971 | K9: =(C9+D9+E9+F9+G9+H9+I9+J9)/8 -> 0.9495875
B11: Peste 86% | C11: 60-85% | D11: 50-59% | E11: 24-49% | F11: sub 25%
B12: X
B13: Foarte stimulativ | C13: Stimulativ | D13: Nestimulativ | E13: Impedimenteaza | F13: Risc major

Sheet Munka10
B3: Tabelul 3.3. Rezultatele evaluării de către management a cadrelor didactice din departamente pentru anul 2025 se calculează ca valoarea medie aritmetică a calificativelor obţinute de toate cadrele didactice de acelaşi grad universitar din cadrul departamentului
B4: Facultatea | C4: Departamentul | D4: Min/Max | N4: Valoarea medie aritmetică
D5: Prof. | F5: Conf. | H5: Lector | J5: Asistent | L5: Prep. | N5: Prof. | O5: Conf. | P5: Lector | Q5: Asistent | R5: Prep.
D6: Min | E6: Max | F6: Min | G6: Max | H6: Min | I6: Max | J6: Min | K6: Max | L6: Min | M6: Max
B7: de Științe și Arte din Cluj -Napoca | C7: Relații Internaționale și Studii Europene | D7: 230.923 | E7: 230.923 | F7: 84.825 | G7: 204.725 | H7: 61.371 | I7: 126.996 | J7: - | K7: - | L7: - | M7: - | N7: 230.923 | O7: 129.187 | P7: 88.371 | Q7: - | R7: -
C8: Ştiinţe Juridice | D8: 166.5 | E8: 574.173 | F8: 69.2 | G8: 203.15 | H8: 54.6 | I8: 205.1 | J8: - | K8: - | L8: - | M8: - | N8: 370.336 | O8: 145.066 | P8: 114.508 | Q8: - | R8: -
C9: Media | D9: 315.66 | E9: 315.66 | F9: 89.4 | G9: 181.248 | H9: 68.1 | I9: 205.484 | J9: 60.4 | K9: 60.4 | L9: - | M9: - | N9: 315.66 | O9: 149.451 | P9: 115.116 | Q9: 60.4 | R9: -
C10: Ştiinţa Mediului | D10: 118.3 | E10: 118.3 | F10: 304.923 | G10: 304.923 | H10: 40.86 | I10: 236.692 | L10: - | M10: - | N10: 118.3 | O10: 304.923 | P10: 148.7148 | Q10: - | R10: -
B14: Tabelul 3.3. Rezultatele evaluării de către management a cadrelor didactice din departamente pentru anul 2025 se calculează ca valoarea medie aritmetică a calificativelor obţinute de toate cadrele didactice de acelaşi grad universitar din cadrul departamentului
B15: Facultatea | C15: Departamentul | D15: Min/Max | N15: Valoarea medie aritmetică
D16: Prof. | F16: Conf. | H16: Lector | J16: Asistent | L16: Prep. | N16: Prof. | O16: Conf. | P16: Lector | Q16: Asistent | R16: Prep.
D17: Min | E17: Max | F17: Min | G17: Max | H17: Min | I17: Max | J17: Min | K17: Max | L17: Min | M17: Max
B18: de Științe și Arte din Cluj -Napoca | C18: Relații Internaționale și Studii Europene | D18: 60 | E18: 60 | F18: 8 | G18: 38 | H18: 4 | I18: 10 | J18: - | K18: - | L18: - | M18: - | N18: 60 | O18: 22 | P18: 8 | Q18: - | R18: -
C19: Ştiinţe Juridice | D19: 0 | E19: 15 | F19: 0 | G19: 10 | H19: 10 | I19: 10 | J19: - | K19: - | L19: - | M19: - | N19: 7.5 | O19: 6.666 | P19: 10 | Q19: - | R19: -
C20: Media | D20: 22 | E20: 22 | F20: 12 | G20: 25 | H20: 10 | I20: 25 | J20: 12 | K20: 12 | L20: - | M20: - | N20: 22 | O20: 20.8 | P20: 18.8 | Q20: 12 | R20: -
C21: Ştiinţa Mediului | D21: 20 | E21: 20 | F21: 25 | G21: 25 | H21: 15 | I21: 45 | J21: - | K21: - | L21: - | M21: - | N21: 20 | O21: 25 | P21: 26.6 | Q21: - | R21: -

Sheet Munka11
A2: Tabelul 3.4. Rezultatele evaluării de către studenți a cadrelor didactice din departamente pe anul 2024-2025 se calculează ca valoarea medie aritmetică a calificativelor obţinute de toate cadrele didactice de acelaşi grad universitar din cadrul departamentului
A3: Facultatea | B3: Departamentul | C3: Min/Max | M3: Valoarea medie aritmetică
C4: Prof. | E4: Conf. | G4: Lector | I4: Asistent | K4: Prep. | M4: Prof. | N4: Conf. | O4: Lector | P4: Asistent | Q4: Prep.
C5: Min | D5: Max | E5: Min | F5: Max | G5: Min | H5: Max | I5: Min | J5: Max | K5: Min | L5: Max
A6: de Științe și Arte din Cluj -Napoca | B6: Studii Europene | C6: 4.78 | D6: 4.78 | E6: 4.07 | F6: 4.94 | G6: 3.8 | H6: 5 | I6: - | J6: - | K6: - | L6: - | M6: 4.78 | N6: 4.66 | O6: 4.62 | P6: - | Q6: -
B7: Ştiinţe Juridice | C7: 3.76 | D7: 4.8 | E7: 3.97 | F7: 4.58 | G7: 4.59 | H7: 4.94 | I7: - | J7: - | K7: - | L7: - | M7: 4.28 | N7: 4.33 | O7: 4.73 | P7: - | Q7: -
B8: Media | C8: 4.33 | D8: 4.33 | E8: 3.7 | F8: 4.67 | G8: 4.33 | H8: 4.86 | I8: 4.47 | J8: 4.5 | K8: - | L8: - | M8: 4.33 | N8: 4.42 | O8: 4.6 | P8: 4.49 | Q8: -
B9: Ştiinţa Mediului | C9: 4.61 | D9: 4.61 | E9: 3.83 | F9: 3.83 | G9: 3.54 | H9: 4.83 | I9: - | J9: - | K9: - | L9: - | M9: 4.61 | N9: 3.83 | O9: 4.42 | P9: - | Q9: -

Sheet Munka16
C2: Tabel 5.1. Sinteza ocupării locurilor la specializările facultăților din cadrul US la examenul de admitere din anul universitar 2025/2026
C3: Facultatea | D3: Programul de studiu | E3: Număr total de locuri | F3: Nr. de locuri bugetate | G3: Nr. de studenţi înscrişi în anul I | K3: Media generalăla admitere | M3: Media generală a anilor precedenţi
G4: Nr. de studeţi bugetaţi | H4: Nr de studenţi cu contribuţii la cheltuieli de studii | I4: Nr. total de studenţi înscrişi | J4: Raportul nr. studenţilor înscrişi pe locuri fără taxă la nr. de locuri bugetate [%] | L4: 2024 | M4: 2023 | N4: 2022
C5: de Ştiinţe şi Arte Cluj-Napoca | D5: Relaţii internaţionale şi studii europene | E5: 30 | F5: 23 | G5: 12 | H5: 0 | I5: 12 | J5: =G5/F5 -> 0.52173913 | K5: 7.57 | L5: 7.91 | M5: 7.74 | N5: 7.92
D6: Drept | E6: 40 | F6: 20 | G6: 20 | H6: 10 | I6: 30 | J6: =G6/F6 -> 1 | K6: 8.22 | L6: 8.32 | M6: 8.34 | N6: 8.19
D7: Cinematografie, fotografie, media | L7: 8.53 | M7: 7,8 | N7: 8.36
D8: Cinematografie, fotografie, media - CAV | E8: 7 | F8: 4 | G8: 4 | H8: 2 | I8: 6 | J8: =G8/F8 -> 1 | K8: 8.6
D9: Cinematografie, fotografie, media - IMG | E9: 9 | F9: 4 | G9: 4 | H9: 2 | I9: 6 | J9: =G9/F9 -> 1 | K9: 8.46
D10: Cinematografie, fotografie, media - REG | E10: 9 | F10: 4 | G10: 4 | H10: 4 | I10: 8 | J10: =G10/F10 -> 1 | K10: 8.09
D11: Artele spectacolului (coreografie) | E11: 15 | F11: 10 | G11: 9 | H11: 4 | I11: 13 | J11: =G11/F11 -> 0.9 | K11: 8 | L11: 8.7 | M11: 8.69 | N11: 8.21
D12: Ştiinţa mediului | E12: 25 | F12: 13 | G12: 4 | H12: 0 | I12: 4 | J12: =G12/F12 -> 0.30769231 | K12: 8.05 | L12: 7.54 | M12: 7.41 | N12: 7.93
D13: Total licenţă | E13: =SUM(E5:E12) -> 135 | F13: =SUM(F5:F12) -> 78 | G13: =SUM(G5:G12) -> 57 | H13: =SUM(H5:H12) -> 22 | I13: =SUM(I5:I12) -> 79
D14: Diplomație și studii interculturale | E14: 15 | L14: 9.12 | M14: 8.56 | N14: 8.46
D15: Relaţii internaţionale şi geopolitică | F15: 8 | G15: 8 | H15: 5 | I15: 13 | J15: =G15/F15 -> 1 | K15: 8.91
D16: Carieră judiciară | E16: 20 | F16: 10 | G16: 10 | H16: 2 | I16: 12 | J16: =G16/F16 -> 1 | K16: 9.21 | L16: 9.11 | M16: 9.18 | N16: 9.12
D17: Studii de film | E17: 15 | F17: 10 | G17: 8 | H17: 0 | I17: 8 | J17: =G17/F17 -> 0.8 | K17: 9.79 | L17: 8.21 | M17: 9.74 | N17: 8.97
D18: Protecția și monitorizarea mediului | E18: 10 | F18: 7 | G18: 5 | H18: 0 | I18: 5 | J18: =G18/F18 -> 0.71428571 | K18: 9.04 | L18: 9.32 | M18: 9.14 | N18: 9.52
D19: Total master | E19: =SUM(E14:E18) -> 60 | F19: =SUM(F14:F18) -> 35 | G19: =SUM(G14:G18) -> 31 | H19: =SUM(H14:H18) -> 7 | I19: =SUM(I14:I18) -> 38
D20: Total Facultate | E20: =SUM(E13,E19) -> 195 | F20: =SUM(F13,F19) -> 113 | G20: =SUM(G13,G19) -> 88 | H20: =SUM(H13,H19) -> 29 | I20: =SUM(I13,I19) -> 117

Sheet Munka17
B3: Tabelul 5.2. Efectivul de studenţi şi formaţii de studiu la nivel de specializări și facultăți în anul universitar 2025/2026
B4: Facultatea | C4: Programul de studiu | D4: Anul de studiu | E4: Nr. cursanţi | I4: Structura formaţiei de lucru
E5: Total | F5: Fără taxă | G5: Contri-buţii la cheltuieli de studii | H5: Altă categorie | I5: Grupe mari (G) | K5: Grupe mici (g)
I6: Nr. G | J6: Nr.st/G | K6: Nr.g | L6: Nr. stud/g
C7: Relaţii internaţionale şi studii europene | D7: I | E7: =SUM(F7:H7) -> 12 | F7: 12 | G7: 0 | H7: 0 | I7: 1 | J7: =E7/I7 -> 12 | K7: 1 | L7: =E7/K7 -> 12
D8: II | E8: =SUM(F8:H8) -> 14 | F8: 9 | G8: 5 | H8: 0 | I8: 1 | J8: =E8/I8 -> 14 | K8: 1 | L8: =E8/K8 -> 14
D9: III | E9: =SUM(F9:H9) -> 16 | F9: 5 | G9: 11 | H9: 0 | I9: 1 | J9: =E9/I9 -> 16 | K9: 1 | L9: =E9/K9 -> 16
D10: III+ | E10: =SUM(F10:H10) -> 1 | F10: 0 | G10: 0 | H10: 1 | I10: 0
D11: Total | E11: =SUM(E7:E10) -> 43 | F11: =SUM(F7:F10) -> 26 | G11: =SUM(G7:G10) -> 16 | H11: =SUM(H7:H10) -> 1 | I11: =SUM(I7:I10) -> 3 | K11: =SUM(K7:K10) -> 3
C12: Drept | D12: I | E12: =SUM(F12:H12) -> 30 | F12: 20 | G12: 9 | H12: 1 | I12: 1 | J12: =E12/I12 -> 30 | K12: 2 | L12: =E12/K12 -> 15
D13: II | E13: =SUM(F13:H13) -> 28 | F13: 11 | G13: 17 | H13: 0 | I13: 1 | J13: =E13/I13 -> 28 | K13: 2 | L13: =E13/K13 -> 14
D14: III | E14: =SUM(F14:H14) -> 26 | F14: 14 | G14: 12 | H14: 0 | I14: 1 | J14: =E14/I14 -> 26 | K14: 1 | L14: =E14/K14 -> 26
D15: IV | E15: =SUM(F15:H15) -> 30 | F15: 10 | G15: 20 | H15: 0 | I15: 1 | J15: =E15/I15 -> 30 | K15: 1 | L15: =E15/K15 -> 30
D16: IV+ | E16: =SUM(F16:H16) -> 6 | F16: 0 | G16: 0 | H16: 6
D17: Total | E17: =SUM(E12:E16) -> 120 | F17: =SUM(F12:F16) -> 55 | G17: =SUM(G12:G16) -> 58 | H17: =SUM(H12:H16) -> 7 | I17: =SUM(I12:I16) -> 4 | K17: =SUM(K12:K16) -> 6
C18: Cinematografie, fotografie, media | D18: I_CAV | E18: =SUM(F18:H18) -> 6 | F18: 4 | G18: 2 | H18: 0 | I18: 1 | J18: =(SUM(E18:E20))/I18 -> 20 | K18: 1 | L18: =E18/K18 -> 6
D19: I_IMG | E19: =SUM(F19:H19) -> 6 | F19: 4 | G19: 2 | H19: 0 | I19: 0 | K19: 1 | L19: =E19/K19 -> 6
D20: I_REG | E20: =SUM(F20:H20) -> 8 | F20: 4 | G20: 4 | H20: 0 | I20: 0 | K20: 1 | L20: =E20/K20 -> 8
D21: II | E21: =SUM(F21:H21) -> 19 | F21: 8 | G21: 11 | H21: 0 | I21: 1 | J21: =E21/I21 -> 19 | K21: 2 | L21: =E21/K21 -> 9.5
D22: III | E22: =SUM(F22:H22) -> 19 | F22: 11 | G22: 8 | H22: 0 | I22: 2 | J22: =E22/I22 -> 9.5 | K22: 2 | L22: =E22/K22 -> 9.5
D23: III+ | E23: =SUM(F23:H23) -> 5 | F23: 0 | G23: 0 | H23: 5 | I23: 0
D24: Total | E24: =SUM(E18:E23) -> 63 | F24: =SUM(F18:F23) -> 31 | G24: =SUM(G18:G23) -> 27 | H24: =SUM(H18:H23) -> 5 | I24: =SUM(I18:I23) -> 4 | K24: =SUM(K18:K23) -> 7
C25: Ştiinţa mediului | D25: I | E25: =SUM(F25:H25) -> 4 | F25: 4 | G25: 0 | H25: 0 | I25: 1 | J25: =E25/I25 -> 4 | K25: 1 | L25: =E25/K25 -> 4
D26: II | E26: =SUM(F26:H26) -> 8 | F26: 3 | G26: 5 | H26: 0 | I26: 1 | J26: =E26/I26 -> 8 | K26: 1 | L26: =E26/K26 -> 8
D27: III | E27: =SUM(F27:H27) -> 1 | F27: 1 | G27: 0 | H27: 0 | I27: 1 | J27: =E27/I27 -> 1 | K27: 1 | L27: =E27/K27 -> 1
D28: III+ | E28: =SUM(F28:H28) -> 0 | F28: 0 | G28: 0 | H28: 0 | I28: 0
D29: Total | E29: =SUM(E25:E28) -> 13 | F29: =SUM(F25:F28) -> 8 | G29: =SUM(G25:G28) -> 5 | H29: =SUM(H25:H28) -> 0 | I29: =SUM(I25:I28) -> 3 | K29: =SUM(K25:K28) -> 3
C30: Artele spectacolului (coreografie) | D30: I | E30: =SUM(F30:H30) -> 14 | F30: 10 | G30: 4 | H30: 0 | I30: 1 | J30: =E30/I30 -> 14 | K30: 1 | L30: =E30/K30 -> 14
D31: II | E31: =SUM(F31:H31) -> 15 | F31: 10 | G31: 5 | H31: 0 | I31: 1 | J31: =E31/I31 -> 15 | K31: 1 | L31: =E31/K31 -> 15
D32: III | E32: =SUM(F32:H32) -> 9 | F32: 6 | G32: 3 | H32: 0 | I32: 1 | J32: =E32/I32 -> 9 | K32: 1 | L32: =E32/K32 -> 9
D33: III+ | E33: =SUM(F33:H33) -> 2 | G33: 2 | H33: 0 | I33: 0
D34: Total | E34: =SUM(E30:E33) -> 40 | F34: =SUM(F30:F33) -> 26 | G34: =SUM(G30:G33) -> 14 | H34: =SUM(H30:H33) -> 0 | I34: =SUM(I30:I33) -> 3 | K34: =SUM(K30:K33) -> 3
C35: Total licenţă | E35: =SUM(E11,E17,E24,E29,E34) -> 279 | F35: =SUM(F11,F17,F24,F29,F34) -> 146 | G35: =SUM(G11,G17,G24,G29,G34) -> 120 | H35: =SUM(H11,H17,H24,H29,H34) -> 13 | I35: =SUM(I11,I17,I24,I29,I34) -> 17 | K35: =SUM(K11,K17,K24,K29,K34) -> 22
C36: Diplomație și studii interculturale | D36: I | E36: =SUM(F36:H36) -> 0 | F36: 0 | G36: 0 | H36: 0 | I36: 0
D37: II | E37: =SUM(F37:H37) -> 7 | F37: 4 | G37: 3 | H37: 0 | I37: 1 | J37: =E37/I37 -> 7 | K37: 1 | L37: =E37/K37 -> 7
D38: II+ | E38: =SUM(F38:H38) -> 2 | F38: 0 | G38: 0 | H38: 2 | I38: 0
D39: Total | E39: =SUM(E36:E38) -> 9 | F39: =SUM(F36:F38) -> 4 | G39: =SUM(G36:G38) -> 3 | H39: =SUM(H36:H38) -> 2 | I39: =SUM(I36:I38) -> 1 | K39: =SUM(K36:K38) -> 1
C40: Relaţii internaţionale şi geopolitică | D40: I | E40: =SUM(F40:H40) -> 13 | F40: 8 | G40: 5 | H40: 0 | I40: 1 | J40: =E40/I40 -> 13 | K40: 1 | L40: =E40/K40 -> 13
D41: II | E41: =SUM(F41:H41) -> 0 | F41: 0 | G41: 0 | H41: 0 | I41: 0
D42: II+ | E42: =SUM(F42:H42) -> 0 | F42: 0 | G42: 0 | H42: 0 | I42: 0
D43: Total | E43: =SUM(E40:E42) -> 13 | F43: =SUM(F40:F42) -> 8 | G43: =SUM(G40:G42) -> 5 | H43: =SUM(H40:H42) -> 0 | I43: =SUM(I40:I42) -> 1 | K43: =SUM(K40:K42) -> 1
C44: Studii de film | D44: I | E44: =SUM(F44:H44) -> 8 | F44: 8 | G44: 0 | H44: 0 | I44: 1 | J44: =E44/I44 -> 8 | K44: 1 | L44: =E44/K44 -> 8
D45: II | E45: =SUM(F45:H45) -> 8 | F45: 5 | G45: 3 | H45: 0 | I45: 1 | J45: =E45/I45 -> 8 | K45: 1 | L45: =E45/K45 -> 8
D46: II+ | E46: =SUM(F46:H46) -> 2 | G46: 2 | H46: 0 | I46: 0
D47: Total | E47: =SUM(E44:E46) -> 18 | F47: =SUM(F44:F46) -> 13 | G47: =SUM(G44:G46) -> 5 | H47: =SUM(H44:H46) -> 0 | I47: =SUM(I44:I46) -> 2 | K47: =SUM(K44:K46) -> 2
C48: Protecția și monitorizarea mediului | D48: I | E48: =SUM(F48:H48) -> 5 | F48: 5 | G48: 0 | H48: 0 | I48: 1 | J48: =E48/I48 -> 5 | K48: 1 | L48: =E48/K48 -> 5
D49: II | E49: =SUM(F49:H49) -> 4 | F49: 3 | G49: 1 | H49: 0 | I49: 1 | J49: =E49/I49 -> 4 | K49: 1 | L49: =E49/K49 -> 4
D50: II+ | E50: =SUM(F50:H50) -> 0 | F50: 0 | G50: 0 | H50: 0 | I50: 0
D51: Total | E51: =SUM(E48:E50) -> 9 | F51: =SUM(F48:F50) -> 8 | G51: =SUM(G48:G50) -> 1 | H51: =SUM(H48:H50) -> 0 | I51: =SUM(I48:I50) -> 2 | K51: =SUM(K48:K50) -> 2
C52: Carieră juridică | D52: I | E52: =SUM(F52:H52) -> 12 | F52: 10 | G52: 2 | H52: 0 | I52: 1 | J52: =E52/I52 -> 12 | K52: 1 | L52: =E52/K52 -> 12
D53: I+ | E53: =SUM(F53:H53) -> 0 | F53: 0 | G53: 0 | H53: 0 | I53: 0 | J53: 0 | K53: 0 | L53: 0
D54: Total | E54: =SUM(E52:E53) -> 12 | F54: =SUM(F52:F53) -> 10 | G54: =SUM(G52:G53) -> 2 | H54: =SUM(H52:H53) -> 0 | I54: =SUM(I52:I53) -> 1 | K54: =SUM(K52:K53) -> 1
C55: Total master | E55: =SUM(E39,E47,E51,E54,E43) -> 61 | F55: =SUM(F39,F47,F51) -> 25 | G55: =SUM(G39,G47,G51) -> 9 | H55: =SUM(H39,H47,H51) -> 2 | I55: =SUM(I39,I47,I51) -> 5 | K55: =SUM(K39,K47,K51) -> 5
C56: Total pe facultate | E56: =E35+E55 -> 340 | F56: =F35+F55 -> 171 | G56: =G35+G55 -> 129 | H56: =H35+H55 -> 15 | I56: =I35+I55 -> 22 | K56: =K35+K55 -> 27

Sheet Munka18
C4: Situaţia gradului de promovare a anilor de studii în anul universitar 2024/2025. I-înscris în anul…, P- promovat, adică a îndeplinit 30 de credite stabilite de Regulament, CI- a acumulat minim 60 de credite, A - absolvent
B5: Facultatea | C5: Programul de studiu | D5: I | G5: II | J5: III | M5: IV | P5: Prelungire | S5: Total
D6: I | E6: P | F6: CI | G6: I | H6: P | I6: CI | J6: I | K6: P | L6: CI | M6: I | N6: P | O6: CI | P6: I | Q6: P | R6: A | S6: I | T6: P | U6: CI+A | W6: 1 év % | X6: 2 év % | Y6: 3 év % | Z6: 4 év %
B7: de Ştiinţe şi Arte Cluj-Napoca | C7: Relaţii internaţionale şi studii europene | D7: 16 | E7: 4 | F7: 10 | G7: 16 | H7: 9 | I7: 7 | J7: 12 | K7: 0 | L7: 11 | P7: 1 | Q7: 0 | R7: 0 | S7: =D7+G7+J7+M7+P7 -> 45 | T7: =E7+H7+K7+Q7 -> 13 | U7: =F7+I7+L7+R7 -> 28 | W7: =((SUM(E7:F7))*100)/D7 -> 87.5 | X7: =(SUM(H7:I7))*100/G7 -> 100 | Y7: =(SUM(K7:L7))*100/J7 -> 91.666667
C8: Drept | D8: 35 | E8: 15 | F8: 14 | G8: 27 | H8: 15 | I8: 10 | J8: 32 | K8: 18 | L8: 12 | M8: 12 | N8: 2 | O8: 10 | P8: 4 | Q8: 3 | R8: 1 | S8: =D8+G8+J8+M8+P8 -> 110 | T8: =E8+H8+K8+Q8 -> 51 | U8: =F8+I8+L8+R8 -> 37 | W8: =((SUM(E8:F8))*100)/D8 -> 82.857143 | X8: =(SUM(H8:I8))*100/G8 -> 92.592593 | Y8: =(SUM(K8:L8))*100/J8 -> 93.75 | Z8: =(SUM(N8:O8))*100/M8 -> 100
C9: Cinematografie, fotografie, media | D9: 20 | E9: 3 | F9: 16 | G9: 20 | H9: 5 | I9: 14 | J9: 24 | K9: 3 | L9: 20 | P9: 4 | Q9: 3 | R9: 1 | S9: =D9+G9+J9+P9 -> 68 | T9: =E9+H9+K9+Q9 -> 14 | U9: =F9+I9+L9+R9 -> 51 | W9: =(SUM(E9:F9))*100/D9 -> 95 | X9: =(SUM(H9:I9))*100/G9 -> 95 | Y9: =(SUM(K9:L9))*100/J9 -> 95.833333
C10: Ştiinţa mediului | D10: 10 | E10: 3 | F10: 5 | G10: 1 | H10: 0 | I10: 1 | J10: 6 | K10: 0 | L10: 6 | P10: 0 | Q10: 0 | R10: 0 | S10: =D10+G10+J10+P10 -> 17 | T10: =E10+H10+K10+Q10 -> 3 | U10: =F10+I10+L10+R10 -> 12 | W10: =(SUM(E10:F10))*100/D10 -> 80 | X10: =(SUM(H10:I10))*100/G10 -> 100 | Y10: =(SUM(K10:L10))*100/J10 -> 100
C11: Artele spectacolului (coregrafie) | D11: 15 | E11: 1 | F11: 14 | G11: 9 | H11: 1 | I11: 8 | J11: 14 | K11: 1 | L11: 13 | P11: 1 | Q11: 0 | R11: 0 | S11: =D11+G11+J11 -> 38 | T11: =E11+H11+K11+Q11 -> 3 | U11: =F11+I11+L11+R11 -> 35 | W11: =(SUM(E11:F11))*100/D11 -> 100 | X11: =(SUM(H11:I11))*100/G11 -> 100 | Y11: =(SUM(K11:L11))*100/J11 -> 100
C12: Total licenţă | D12: =SUM(D8:D11) -> 80 | E12: =SUM(E8:E11) -> 22 | F12: =SUM(F8:F11) -> 49 | G12: =SUM(G8:G11) -> 57 | H12: =SUM(H8:H11) -> 21 | I12: =SUM(I8:I11) -> 33 | J12: =SUM(J8:J11) -> 76 | K12: =SUM(K8:K11) -> 22 | ... U12: =SUM(U8:U11) -> 135 | W12: =(SUM(E12:F12))*100/D12 -> 88.75 | X12: =(SUM(H12:I12))*100/G12 -> 94.736842 | Y12: =(SUM(K12:L12))*100/J12 -> 96.052632 | Z12: =(SUM(N12:O12))*100/M12 -> 100
C13: Diplomație și studii interculturale | D13: 10 | E13: 1 | F13: 6 | G13: 2 | H13: 2 | I13: 0 | P13: 2 | Q13: 0 | R13: 2 | S13: =D13+G13+J13+M13+P13 -> 14 | T13: =E13+H13+K13+Q13 -> 3 | U13: =F13+I13+L13+R13 -> 8 | W13: =(SUM(E13:F13))*100/D13 -> 70 | X13: =(SUM(H13:I13))*100/G13 -> 100
C14: Carieră judiciară | D14: 11 | E14: 0 | F14: 10 | P14: 1 | Q14: 0 | R14: 1 | S14: =D14+G14+J14+M14+P14 -> 12 | T14: =E14+H14+K14+Q14 -> 0 | U14: =F14+I14+L14+R14 -> 11 | W14: =(SUM(E14:F14))*100/D14 -> 90.909091
C15: Studii de film | D15: 13 | E15: 5 | F15: 4 | G15: 4 | H15: 2 | I15: 2 | P15: 2 | Q15: 1 | R15: 1 | S15: =D15+G15+J15+P15 -> 19 | T15: =E15+H15+K15+Q15 -> 8 | U15: =F15+I15+L15+R15 -> 7 | W15: =(SUM(E15:F15))*100/D15 -> 69.230769 | X15: =(SUM(H15:I15))*100/G15 -> 100
C16: Protecția și monitorizarea mediului | D16: 5 | E16: 1 | F16: 3 | G16: 1 | H16: 0 | I16: 1 | P16: 1 | Q16: 0 | R16: 1 | S16: =D16+G16+J16+P16 -> 7 | T16: =E16+H16+K16+Q16 -> 1 | U16: =F16+I16+L16+R16 -> 5 | W16: =(SUM(E16:F16))*100/D16 -> 80 | X16: =(SUM(H16:I16))*100/G16 -> 100
C17: Total master | D17: =SUM(D13:D16) -> 39 | E17: =SUM(E13:E16) -> 7 | F17: =SUM(F13:F16) -> 23 | G17: =SUM(G13:G16) -> 7 | H17: =SUM(H13:H16) -> 4 | I17: =SUM(I13:I16) -> 3 | J17: =SUM(J13:J16) -> 0 | K17: =SUM(K13:K16) -> 0 | ... U17: =SUM(U13:U16) -> 31 | W17: =(SUM(E17:F17))*100/D17 -> 76.923077 | X17: =(SUM(H17:I17))*100/G17 -> 100
C18: Total facultate | D18: =D12+D17 -> 119 | E18: =E12+E17 -> 29 | F18: =F12+F17 -> 72 | G18: =G12+G17 -> 64 | H18: =H12+H17 -> 25 | I18: =I12+I17 -> 36 | J18: =J12+J17 -> 76 | K18: =K12+K17 -> 22 | ... U18: =U12+U17 -> 166

Sheet Munka19
B4: Centralizatorul gradului de promovare a studenților la nivelul programelor de studii în procente în anul universitar 2024/2025, I-nr. studenţi înscrişi în anul…, % P- procentul studenţilor promovaţi, adică care au îndeplinit 40 de credite stabilite de Regulament, % CI- procentul de studenţi care au acumulat minim 60 de credite, A - % absolvenţi
B5: Facultatea | C5: Programul de studiu | D5: I | G5: II | J5: III | M5: IV | P5: Prelungire | S5: Total
D6: Nr. înscrişi | E6: % P | F6: % CI | G6: Nr. înscrişi | H6: % P | I6: % CI | J6: Nr. înscrişi | K6: % P | L6: % CI | M6: Nr. înscrişi | N6: % P | O6: % CI | P6: Nr. înscrişi | Q6: % P | R6: % A | S6: Nr. înscrişi | T6: % P | U6: % CI+A
B7: de Ştiinţe şi Arte Cluj-Napoca | C7: Relaţii internaţionale şi studii europene | D7: =Munka18!D7 -> 16 | E7: =Munka18!E7/D7 -> 0.25 | F7: =Munka18!F7/D7 -> 0.625 | G7: =Munka18!G7 -> 16 | H7: =Munka18!H7/G7 -> 0.5625 | I7: =Munka18!I7/G7 -> 0.4375 | J7: =Munka18!J7 -> 12 | K7: =Munka18!K7/J7 -> 0 | L7: =Munka18!L7/J7 -> 0.91666667 | P7: =Munka18!P7 -> 1 | Q7: =Munka18!Q7/P7 -> 0 | R7: =Munka18!R7/P7 -> 0 | S7: =Munka18!S7 -> 45 | T7: =Munka18!T7/S7 -> 0.28888889 | U7: =Munka18!U7/S7 -> 0.62222222
C8: Drept | D8: =Munka18!D8 -> 35 | E8: =Munka18!E8/D8 -> 0.42857143 | F8: =Munka18!F8/D8 -> 0.4 | G8: =Munka18!G8 -> 27 | H8: =Munka18!H8/G8 -> 0.55555556 | I8: =Munka18!I8/G8 -> 0.37037037 | J8: =Munka18!J8 -> 32 | K8: =Munka18!K8/J8 -> 0.5625 | L8: =Munka18!L8/J8 -> 0.375 | M8: =Munka18!M8 -> 12 | N8: =Munka18!N8/M8 -> 0.16666667 | O8: =Munka18!O8/M8 -> 0.83333333 | P8: =Munka18!P8 -> 4 | Q8: =Munka18!Q8/P8 -> 0.75 | R8: =Munka18!R8/P8 -> 0.25 | S8: =Munka18!S8 -> 110 | T8: =Munka18!T8/S8 -> 0.46363636 | U8: =Munka18!U8/S8 -> 0.33636364
C9: Cinematografie, fotografie, media | D9: =Munka18!D9 -> 20 | E9: =Munka18!E9/D9 -> 0.15 | F9: =Munka18!F9/D9 -> 0.8 | G9: =Munka18!G9 -> 20 | H9: =Munka18!H9/G9 -> 0.25 | I9: =Munka18!I9/G9 -> 0.7 | J9: =Munka18!J9 -> 24 | K9: =Munka18!K9/J9 -> 0.125 | L9: =Munka18!L9/J9 -> 0.83333333 | P9: =Munka18!P9 -> 4 | Q9: =Munka18!Q9/P9 -> 0.75 | R9: =Munka18!R9/P9 -> 0.25 | S9: =Munka18!S9 -> 68 | T9: =Munka18!T9/S9 -> 0.20588235 | U9: =Munka18!U9/S9 -> 0.75
C10: Ştiinţa mediului | D10: =Munka18!D10 -> 10 | E10: =Munka18!E10/D10 -> 0.3 | F10: =Munka18!F10/D10 -> 0.5 | G10: =Munka18!G10 -> 1 | H10: =Munka18!H10/G10 -> 0 | I10: =Munka18!I10/G10 -> 1 | J10: =Munka18!J10 -> 6 | K10: =Munka18!K10/J10 -> 0 | L10: =Munka18!L10/J10 -> 1 | P10: 0 | Q10: =Munka18!Q10/P10 -> #DIV/0! | R10: =Munka18!R10/P10 -> #DIV/0! | S10: =Munka18!S10 -> 17 | T10: =Munka18!T10/S10 -> 0.17647059 | U10: =Munka18!U10/S10 -> 0.70588235
C11: Artele spectacolului (coreografie) | D11: =Munka18!D11 -> 15 | E11: =Munka18!E11/D11 -> 0.066666667 | F11: =Munka18!F11/D11 -> 0.93333333 | G11: =Munka18!G11 -> 9 | H11: =Munka18!H11/G11 -> 0.11111111 | I11: =Munka18!I11/G11 -> 0.88888889 | J11: =Munka18!J11 -> 14 | K11: =Munka18!K11/J11 -> 0.071428571 | L11: =Munka18!L11/J11 -> 0.92857143 | P11: =Munka18!P11 -> 1 | Q11: =Munka18!Q11/P11 -> 0 | R11: =Munka18!R11/P11 -> 0 | S11: =Munka18!S11 -> 38 | T11: =Munka18!T11/S11 -> 0.078947368 | U11: =Munka18!U11/S11 -> 0.92105263
C12: Total licenţă | D12: =SUM(D7:D11) -> 96 | E12: =Munka18!E12/D12 -> 0.22916667 | F12: =Munka18!F12/D12 -> 0.51041667 | G12: =SUM(G7:G11) -> 73 | H12: =Munka18!H12/G12 -> 0.28767123 | I12: =Munka18!I12/G12 -> 0.45205479 | J12: =SUM(J7:J11) -> 88 | K12: =Munka18!K12/J12 -> 0.25 | L12: =Munka18!L12/J12 -> 0.57954545 | M12: =SUM(M7:M11) -> 12 | N12: =Munka18!N12/M12 -> 0.16666667 | O12: =Munka18!O12/M12 -> 0.83333333 | P12: =SUM(P7:P11) -> 10 | Q12: =Munka18!Q12/P12 -> 0.6 | R12: =Munka18!R12/P12 -> 0.2 | S12: =SUM(S7:S11) -> 278 | T12: =Munka18!T12/S12 -> 0.25539568 | U12: =Munka18!U12/S12 -> 0.48561151
C13: Diplomație și studii interculturale | D13: =Munka18!D13 -> 10 | E13: =Munka18!E13/D13 -> 0.1 | F13: =Munka18!F13/D13 -> 0.6 | G13: =Munka18!G13 -> 2 | H13: =Munka18!H13/G13 -> 1 | I13: =Munka18!I13/G13 -> 0 | P13: =Munka18!P13 -> 2 | Q13: =Munka18!Q13/P13 -> 0 | R13: =Munka18!R13/P13 -> 1 | S13: =Munka18!S13 -> 14 | T13: =Munka18!T13/S13 -> 0.21428571 | U13: =Munka18!U13/S13 -> 0.57142857
C14: Carieră judiciară | D14: =Munka18!D14 -> 11 | E14: =Munka18!E14/D14 -> 0 | F14: =Munka18!F14/D14 -> 0.90909091 | P14: =Munka18!P14 -> 1 | Q14: =Munka18!Q14/P14 -> 0 | R14: =Munka18!R14/P14 -> 1 | S14: =Munka18!S14 -> 12 | T14: =Munka18!T14/S14 -> 0 | U14: =Munka18!U14/S14 -> 0.91666667
C15: Studii de film | D15: =Munka18!D15 -> 13 | E15: =Munka18!E15/D15 -> 0.38461538 | F15: =Munka18!F15/D15 -> 0.30769231 | G15: =Munka18!G15 -> 4 | H15: =Munka18!H15/G15 -> 0.5 | I15: =Munka18!I15/G15 -> 0.5 | P15: =Munka18!P15 -> 2 | Q15: =Munka18!Q15/P15 -> 0.5 | R15: =Munka18!R15/P15 -> 0.5 | S15: =Munka18!S15 -> 19 | T15: =Munka18!T15/S15 -> 0.42105263 | U15: =Munka18!U15/S15 -> 0.36842105
C16: Protecția și monitorizarea mediului | D16: =Munka18!D16 -> 5 | E16: =Munka18!E16/D16 -> 0.2 | F16: =Munka18!F16/D16 -> 0.6 | G16: =Munka18!G16 -> 1 | H16: =Munka18!H16/G16 -> 0 | I16: =Munka18!I16/G16 -> 1 | P16: =Munka18!P16 -> 1 | Q16: =Munka18!Q16/P16 -> 0 | R16: =Munka18!R16/P16 -> 1 | S16: =Munka18!S16 -> 7 | T16: =Munka18!T16/S16 -> 0.14285714 | U16: =Munka18!U16/S16 -> 0.71428571
C17: Total master | D17: =Munka18!D17 -> 39 | E17: =Munka18!E17/D17 -> 0.17948718 | F17: =Munka18!F17/D17 -> 0.58974359 | G17: =Munka18!G17 -> 7 | H17: =Munka18!H17/G17 -> 0.57142857 | I17: =Munka18!I17/G17 -> 0.42857143 | P17: =Munka18!P17 -> 6 | Q17: =Munka18!Q17/P17 -> 0.16666667 | R17: =Munka18!R17/P17 -> 0.83333333 | S17: =Munka18!S17 -> 52 | T17: =Munka18!T17/S17 -> 0.23076923 | U17: =Munka18!U17/S17 -> 0.59615385
E21: EZT AZ OLDALT NEM KELL KITÖLTENI, AUTOMATIKUSAN VESZI AZ ADATOKAT A Munka 18-ból.

Sheet Munka20
C3: Media de absolvire şi media de licenţă pe facultate
B4: Facultatea | C4: Programul de studiu de licenţă | D4: Promoția 2025 | G4: Promoția 2024 | J4: Promoția 2023 | M4: Promoția 2022 | P4: Promoția 2021 | S4: Promoţia 2020
D5: Media generală de absolvire | E5: Media examenului de licenţă/ disertaţie | F5: Diferenţa ML-MA | G5: Media generală de absolvire | H5: Media examenului de licenţă/ disertaţie | I5: Diferenţa ML-MA | J5: Media generală de absolvire | K5: Media examenului de licenţă/ disertaţie | L5: Diferenţa ML-MA | M5: Media generală de absolvire | N5: Media examenului de licenţă/ disertaţie | O5: Diferenţa ML-MA | P5: Media generală de absolvire | Q5: Media examenului de licenţă/ disertaţie | R5: Diferenţa ML-MA | S5: Media generală de absolvire | T5: Media examenului de licenţă/ disertaţie | U5: Diferenţa ML-MA
B6: de Ştiinţe şi Arte Cluj-Napoca | C6: Relaţii internaţionale şi studii europene | D6: 8.42 | E6: 8.43 | F6: =E6-D6 -> 0.01 | G6: 8.62 | H6: 8.64 | I6: =H6-G6 -> 0.02 | J6: 8.54 | K6: 8.81 | L6: =K6-J6 -> 0.27 | M6: 8.43 | N6: 8.44 | O6: =N6-M6 -> 0.01 | P6: 8.73 | Q6: 8.92 | R6: =Q6-P6 -> 0.19 | S6: 8 | T6: 8.9 | U6: =T6-S6 -> 0.9
C7: Drept | D7: 7.91 | E7: 8.37 | F7: =E7-D7 -> 0.46 | G7: 8.01 | H7: 8.23 | I7: =H7-G7 -> 0.22 | J7: 7.46 | K7: 7.98 | L7: =K7-J7 -> 0.52 | M7: 7.99 | N7: 8.13 | O7: =N7-M7 -> 0.14 | P7: 8.4 | Q7: 8.29 | R7: =Q7-P7 -> -0.11 | S7: 7.53 | T7: 7.66 | U7: =T7-S7 -> 0.13
C8: Cinematografie, fotografie, media | D8: 8.76 | E8: 8.74 | F8: =E8-D8 -> -0.02 | G8: 8.64 | H8: 9.06 | I8: =H8-G8 -> 0.42 | J8: 8.67 | K8: 8.69 | L8: =K8-J8 -> 0.02 | M8: 8.72 | N8: 8.39 | O8: =N8-M8 -> -0.33 | P8: 8.54 | Q8: 8.5 | R8: =Q8-P8 -> -0.04 | S8: 8.58 | T8: 8.95 | U8: =T8-S8 -> 0.37
C9: Ştiinţa mediului | D9: 8.22 | E9: 9.25 | F9: =E9-D9 -> 1.03 | G9: 8.07 | H9: 8.93 | I9: =H9-G9 -> 0.86 | J9: 7.64 | K9: 9.4 | L9: =K9-J9 -> 1.76 | M9: 8.39 | N9: 9.3 | O9: =N9-M9 -> 0.91 | P9: 7.76 | Q9: 9.25 | R9: =Q9-P9 -> 1.49 | S9: 9.58 | T9: 9.23 | U9: =T9-S9 -> -0.35
C10: Artele spectacolului (coreografie) | D10: 8.52 | E10: 7.9 | F10: =E10-D10 -> -0.62 | G10: 9 | H10: 8.86 | I10: =H10-G10 -> -0.14 | J10: 9.2 | K10: 8.66 | L10: =K10-J10 -> -0.54 | O10: =N10-M10 -> 0 | R10: =Q10-P10 -> 0 | U10: =T10-S10 -> 0
C11: Diplomație și studii interculturale | D11: 8.86 | E11: 9.33 | F11: =E11-D11 -> 0.47 | G11: 9.03 | H11: 9.67 | I11: =H11-G11 -> 0.64 | J11: 9.37 | K11: 9.06 | L11: =K11-J11 -> -0.31 | M11: 9.31 | N11: 9.5 | O11: =N11-M11 -> 0.19 | P11: 9.17 | Q11: 9.86 | R11: =Q11-P11 -> 0.69 | S11: 8.91 | T11: 9.37 | U11: =T11-S11 -> 0.46
C12: Carieră judiciară | D12: 7.15 | E12: 9.88 | F12: =E12-D12 -> 2.73 | G12: 8.4 | H12: 9.56 | I12: =H12-G12 -> 1.16 | J12: 8.31 | K12: 9.86 | L12: =K12-J12 -> 1.55 | O12: =N12-M12 -> 0 | R12: =Q12-P12 -> 0 | U12: =T12-S12 -> 0
C13: Studii de film | D13: 9.63 | E13: 10 | F13: =E13-D13 -> 0.37 | G13: 9.14 | H13: 9.33 | I13: =H13-G13 -> 0.19 | J13: 8.88 | K13: 8.94 | L13: =K13-J13 -> 0.06 | M13: 9.2 | N13: 9.09 | O13: =N13-M13 -> -0.11 | P13: 9.15 | Q13: 8.95 | R13: =Q13-P13 -> -0.2 | S13: 9.16 | T13: 8.34 | U13: =T13-S13 -> -0.82
C14: Protecția și monitorizarea mediului | D14: 8.7 | E14: 8.6 | F14: =E14-D14 -> -0.1 | G14: 8.07 | H14: 8.93 | I14: =H14-G14 -> 0.86 | J14: 9.29 | K14: 10 | L14: =K14-J14 -> 0.71 | M14: 9.41 | N14: 9.65 | O14: =N14-M14 -> 0.24 | P14: 8.98 | Q14: 9.5 | R14: =Q14-P14 -> 0.52 | S14: 9.48 | T14: 10 | U14: =T14-S14 -> 0.52

Sheet Munka21
C1: Situația comparativă a burselor la nivel de programe și facultăți în semestrul I al anului universitar 2025/2026
B2: Facultatea | C2: Programul de studiu | D2: Anul de studii | E2: Studenți înscriși | F2: Burse de merit | H2: Burse de studii | J2: Burse sociale | L2: Burse ocazionale/speciale | N2: Total
E3: I | F3: Bm | G3: B% (Bm/I*100) | H3: BSt | I3: B% (BSt/I*100) | J3: BS | K3: B% (BS/I*100) | L3: BO | M3: B% (BO/I*100) | N3: BT (Bm+BSt+BS+BO) | O3: B% (BT/I*100)
B4: de Științe și Arte din Cluj-Napoca | C4: Relaţii internaţionale şi studii europene | D4: I | E4: 12 | F4: 0 | G4: =F4/E4 -> 0 | H4: 1 | I4: =H4/E4 -> 0.083333333 | J4: 0 | K4: =J4/E4 -> 0 | L4: 0 | M4: =L4/E58 -> #DIV/0! | N4: =SUM(F4+H4+J4+L4) -> 1 | O4: =(F4+H4+J4+L4)/E4 -> 0.083333333
D5: II | E5: 14 | F5: 0 | G5: =F5/E5 -> 0 | H5: 1 | I5: =H5/E5 -> 0.071428571 | J5: 1 | K5: =J5/E5 -> 0.071428571 | L5: 0 | M5: =L5/E59 -> #DIV/0! | N5: =SUM(F5+H5+J5+L5) -> 2 | O5: =(F5+H5+J5+L5)/E5 -> 0.14285714
D6: III | E6: 16 | F6: 0 | G6: =F6/E6 -> 0 | H6: 2 | I6: =H6/E6 -> 0.125 | J6: 0 | K6: =J6/E6 -> 0 | L6: 0 | M6: =L6/E60 -> #DIV/0! | N6: =SUM(F6+H6+J6+L6) -> 2 | O6: =(F6+H6+J6+L6)/E6 -> 0.125
D7: Total | E7: =SUM(E4:E6) -> 42 | F7: =SUM(F4:F6) -> 0 | G7: =F7/E7 -> 0 | H7: =SUM(H4:H6) -> 4 | I7: =H7/E7 -> 0.095238095 | J7: =SUM(J4:J6) -> 1 | K7: =J7/E7 -> 0.023809524 | L7: =SUM(L4:L6) -> 0 | M7: =L7/E61 -> #DIV/0! | N7: =SUM(N4:N6) -> 5 | O7: =(F7+H7+J7+L7)/E7 -> 0.11904762
C8: Drept | D8: I | E8: 30 | F8: 0 | G8: =F8/E8 -> 0 | H8: 4 | I8: =H8/E8 -> 0.13333333 | J8: 4 | K8: =J8/E8 -> 0.13333333 | L8: 0 | M8: =L8/E62 -> #DIV/0! | N8: =SUM(F8+H8+J8+L8) -> 8 | O8: =(F8+H8+J8+L8)/E8 -> 0.26666667
D9: II | E9: 28 | F9: 1 | G9: =F9/E9 -> 0.035714286 | H9: 3 | I9: =H9/E9 -> 0.10714286 | J9: 3 | K9: =J9/E9 -> 0.10714286 | L9: 0 | M9: =L9/E63 -> #DIV/0! | N9: =SUM(F9+H9+J9+L9) -> 7 | O9: =(F9+H9+J9+L9)/E9 -> 0.25
D10: III | E10: 26 | F10: 1 | G10: =F10/E10 -> 0.038461538 | H10: 3 | I10: =H10/E10 -> 0.11538462 | J10: 3 | K10: =J10/E10 -> 0.11538462 | L10: 0 | M10: =L10/E64 -> #DIV/0! | N10: =SUM(F10+H10+J10+L10) -> 7 | O10: =(F10+H10+J10+L10)/E10 -> 0.26923077
D11: IV | E11: 30 | F11: 1 | G11: =F11/E11 -> 0.033333333 | H11: 0 | I11: =H11/E11 -> 0 | J11: 4 | K11: =J11/E11 -> 0.13333333 | L11: 0 | M11: =L11/E65 -> #DIV/0! | N11: =SUM(F11+H11+J11+L11) -> 5 | O11: =(F11+H11+J11+L11)/E11 -> 0.16666667
D12: Total | E12: =SUM(E8:E11) -> 114 | F12: =SUM(F8:F11) -> 3 | G12: =F12/E12 -> 0.026315789 | H12: =SUM(H8:H11) -> 10 | I12: =H12/E12 -> 0.087719298 | J12: =SUM(J8:J11) -> 14 | K12: =J12/E12 -> 0.12280702 | L12: =SUM(L8:L11) -> 0 | M12: =L12/E66 -> #DIV/0! | N12: =SUM(N8:N11) -> 27 | O12: =(F12+H12+J12+L12)/E12 -> 0.23684211
C13: Cinematografie, fotografie, media | D13: I | E13: 20 | F13: 0 | G13: =F13/E13 -> 0 | H13: 2 | I13: =H13/E13 -> 0.1 | J13: 3 | K13: =J13/E13 -> 0.15 | L13: 0 | M13: =L13/E67 -> #DIV/0! | N13: =SUM(F13+H13+J13+L13) -> 5 | O13: =(F13+H13+J13+L13)/E13 -> 0.25
D14: II | E14: 19 | F14: 1 | G14: =F14/E14 -> 0.052631579 | H14: 2 | I14: =H14/E14 -> 0.10526316 | J14: 2 | K14: =J14/E14 -> 0.10526316 | L14: 0 | M14: =L14/E68 -> #DIV/0! | N14: =SUM(F14+H14+J14+L14) -> 5 | O14: =(F14+H14+J14+L14)/E14 -> 0.26315789
D15: III | E15: 19 | F15: 1 | G15: =F15/E15 -> 0.052631579 | H15: 2 | I15: =H15/E15 -> 0.10526316 | J15: 4 | K15: =J15/E15 -> 0.21052632 | L15: 0 | M15: =L15/E69 -> #DIV/0! | N15: =SUM(F15+H15+J15+L15) -> 7 | O15: =(F15+H15+J15+L15)/E15 -> 0.36842105
D16: Total | E16: =SUM(E13:E15) -> 58 | F16: =SUM(F13:F15) -> 2 | G16: =F16/E16 -> 0.034482759 | H16: =SUM(H13:H15) -> 6 | I16: =H16/E16 -> 0.10344828 | J16: =SUM(J13:J15) -> 9 | K16: =J16/E16 -> 0.15517241 | L16: =SUM(L13:L15) -> 0 | M16: =L16/E70 -> #DIV/0! | N16: =SUM(N13:N15) -> 17 | O16: =(F16+H16+J16+L16)/E16 -> 0.29310345
C17: Artele spectacolului | D17: I | E17: 14 | F17: 0 | G17: =F17/E17 -> 0 | H17: 1 | I17: =H17/E17 -> 0.071428571 | J17: 0 | K17: =J17/E17 -> 0 | L17: 0 | M17: =L17/E71 -> #DIV/0! | N17: =SUM(F17+H17+J17+L17) -> 1 | O17: =(F17+H17+J17+L17)/E17 -> 0.071428571
D18: II | E18: 15 | F18: 1 | G18: =F18/E18 -> 0.066666667 | H18: 2 | I18: =H18/E18 -> 0.13333333 | J18: 2 | K18: =J18/E18 -> 0.13333333 | L18: 0 | M18: =L18/E72 -> #DIV/0! | N18: =SUM(F18+H18+J18+L18) -> 5 | O18: =(F18+H18+J18+L18)/E18 -> 0.33333333
D19: III | E19: 9 | F19: 1 | G19: =F19/E19 -> 0.11111111 | H19: 1 | I19: =H19/E19 -> 0.11111111 | J19: 2 | K19: =J19/E19 -> 0.22222222 | L19: 0 | M19: =L19/E73 -> #DIV/0! | N19: =SUM(F19+H19+J19+L19) -> 4 | O19: =(F19+H19+J19+L19)/E19 -> 0.44444444
D20: Total | E20: =SUM(E17:E19) -> 38 | F20: =SUM(F17:F19) -> 2 | G20: =F20/E20 -> 0.052631579 | H20: =SUM(H17:H19) -> 4 | I20: =H20/E20 -> 0.10526316 | J20: =SUM(J17:J19) -> 4 | K20: =J20/E20 -> 0.10526316 | L20: =SUM(L17:L19) -> 0 | M20: =L20/E74 -> #DIV/0! | N20: =SUM(N17:N19) -> 10 | O20: =(F20+H20+J20+L20)/E20 -> 0.26315789
C21: Ştiinţa mediului | D21: I | E21: 4 | F21: 0 | G21: =F21/E21 -> 0 | H21: 1 | I21: =H21/E21 -> 0.25 | J21: 0 | K21: =J21/E21 -> 0 | L21: 0 | M21: =L21/E71 -> #DIV/0! | N21: =SUM(F21+H21+J21+L21) -> 1 | O21: =(F21+H21+J21+L21)/E21 -> 0.25
D22: II | E22: 8 | F22: 1 | G22: =F22/E22 -> 0.125 | H22: 1 | I22: =H22/E22 -> 0.125 | J22: 2 | K22: =J22/E22 -> 0.25 | L22: 0 | M22: =L22/E72 -> #DIV/0! | N22: =SUM(F22+H22+J22+L22) -> 4 | O22: =(F22+H22+J22+L22)/E22 -> 0.5
D23: III | E23: 1 | F23: 0 | G23: =F23/E23 -> 0 | H23: 1 | I23: =H23/E23 -> 1 | J23: 0 | K23: =J23/E23 -> 0 | L23: 0 | M23: =L23/E73 -> #DIV/0! | N23: =SUM(F23+H23+J23+L23) -> 1 | O23: =(F23+H23+J23+L23)/E23 -> 1
D24: Total | E24: =SUM(E21:E23) -> 13 | F24: =SUM(F21:F23) -> 1 | G24: =F24/E24 -> 0.076923077 | H24: =SUM(H21:H23) -> 3 | I24: =H24/E24 -> 0.23076923 | J24: =SUM(J21:J23) -> 2 | K24: =J24/E24 -> 0.15384615 | L24: =SUM(L21:L23) -> 0 | M24: =L24/E74 -> #DIV/0! | N24: =SUM(N21:N23) -> 6 | O24: =(F24+H24+J24+L24)/E24 -> 0.46153846
C25: Total facultate licenţă | E25: =E7+E12+E16+E20+E24 -> 265 | F25: =F7+F12+F16+F20+F24 -> 8 | G25: =F25/E25 -> 0.030188679 | H25: =SUM(H24,H20,H16,H12,H7) -> 27 | I25: =H25/E25 -> 0.10188679 | J25: =SUM(J24,J20,J16,J12,J7) -> 30 | K25: =J25/E25 -> 0.11320755 | L25: 0 | M25: =L25/E75 -> #DIV/0! | N25: =SUM(N7,N12,N16,N20,N24) -> 65 | O25: =(F25+H25+J25+L25)/E25 -> 0.24528302
C26: Diplomație și studii interculturale | D26: I | E26: 0 | F26: 0 | G26: =F26/E26 -> #DIV/0! | H26: 0 | I26: =H26/E26 -> #DIV/0! | J26: 0 | K26: =J26/E26 -> #DIV/0! | L26: 0 | M26: =L26/E76 -> #DIV/0! | N26: =SUM(F26+H26+J26+L26) -> 0 | O26: =(F26+H26+J26+L26)/E26 -> #DIV/0!
D27: II | E27: 7 | F27: 1 | G27: =F27/E27 -> 0.14285714 | H27: 1 | I27: =H27/E27 -> 0.14285714 | J27: 0 | K27: =J27/E27 -> 0 | L27: 0 | M27: =L27/E77 -> #DIV/0! | N27: =SUM(F27+H27+J27+L27) -> 2 | O27: =(F27+H27+J27+L27)/E27 -> 0.28571429
D28: Total | E28: =SUM(E26:E27) -> 7 | F28: =SUM(F26:F27) -> 1 | G28: =F28/E28 -> 0.14285714 | H28: =SUM(H26:H27) -> 1 | I28: =H28/E28 -> 0.14285714 | J28: =SUM(J26:J27) -> 0 | K28: =J28/E28 -> 0 | L28: =SUM(L26:L27) -> 0 | M28: =L28/E78 -> #DIV/0! | N28: =SUM(N26:N27) -> 2 | O28: =(F28+H28+J28+L28)/E28 -> 0.28571429
C29: Relaţii internaţionale şi geopolitică | D29: I | E29: 13 | F29: 0 | G29: =F29/E29 -> 0 | H29: 1 | I29: =H29/E29 -> 0.076923077 | J29: 1 | K29: =J29/E29 -> 0.076923077 | L29: 0 | M29: =L29/E79 -> #DIV/0! | N29: =SUM(F29+H29+J29+L29) -> 2 | O29: =(F29+H29+J29+L29)/E29 -> 0.15384615
D30: II | E30: 0 | F30: 0 | G30: =F30/E30 -> #DIV/0! | H30: 0 | I30: =H30/E30 -> #DIV/0! | J30: 0 | K30: =J30/E30 -> #DIV/0! | L30: 0 | M30: =L30/E80 -> #DIV/0! | N30: =SUM(F30+H30+J30+L30) -> 0 | O30: =(F30+H30+J30+L30)/E30 -> #DIV/0!
D31: Total | E31: =SUM(E29:E30) -> 13 | F31: =SUM(F29:F30) -> 0 | G31: =F31/E31 -> 0 | H31: =SUM(H29:H30) -> 1 | I31: =H31/E31 -> 0.076923077 | J31: =SUM(J29:J30) -> 1 | K31: =J31/E31 -> 0.076923077 | L31: =SUM(L29:L30) -> 0 | M31: =L31/E81 -> #DIV/0! | N31: =SUM(N29:N30) -> 2 | O31: =(F31+H31+J31+L31)/E31 -> 0.15384615
C32: Studii de film | D32: I | E32: 8 | F32: 0 | G32: =F32/E32 -> 0 | H32: 1 | I32: =H32/E32 -> 0.125 | J32: 1 | K32: =J32/E32 -> 0.125 | L32: 0 | M32: =L32/E79 -> #DIV/0! | N32: =SUM(F32+H32+J32+L32) -> 2 | O32: =(F32+H32+J32+L32)/E32 -> 0.25
D33: II | E33: 8 | F33: 1 | G33: =F33/E33 -> 0.125 | H33: 2 | I33: =H33/E33 -> 0.25 | J33: 0 | K33: =J33/E33 -> 0 | L33: 0 | M33: =L33/E80 -> #DIV/0! | N33: =SUM(F33+H33+J33+L33) -> 3 | O33: =(F33+H33+J33+L33)/E33 -> 0.375
D34: Total | E34: =SUM(E32:E33) -> 16 | F34: =SUM(F32:F33) -> 1 | G34: =F34/E34 -> 0.0625 | H34: =SUM(H32:H33) -> 3 | I34: =H34/E34 -> 0.1875 | J34: =SUM(J32:J33) -> 1 | K34: =J34/E34 -> 0.0625 | L34: =SUM(L32:L33) -> 0 | M34: =L34/E81 -> #DIV/0! | N34: =SUM(N32:N33) -> 5 | O34: =(F34+H34+J34+L34)/E34 -> 0.3125
C35: Protecţia şi monitorizarea mediului | D35: I | E35: 5 | F35: 0 | G35: =F35/E35 -> 0 | H35: 1 | I35: =H35/E35 -> 0.2 | J35: 1 | K35: =J35/E35 -> 0.2 | L35: 0 | M35: =L35/E82 -> #DIV/0! | N35: =SUM(F35+H35+J35+L35) -> 2 | O35: =(F35+H35+J35+L35)/E35 -> 0.4
D36: II | E36: 4 | F36: 1 | G36: =F36/E36 -> 0.25 | H36: 0 | I36: =H36/E36 -> 0 | J36: 0 | K36: =J36/E36 -> 0 | L36: 0 | M36: =L36/E83 -> #DIV/0! | N36: =SUM(F36+H36+J36+L36) -> 1 | O36: =(F36+H36+J36+L36)/E36 -> 0.25
D37: Total | E37: =SUM(E35:E36) -> 9 | F37: =SUM(F35:F36) -> 1 | G37: =F37/E37 -> 0.11111111 | H37: =SUM(H35:H36) -> 1 | I37: =H37/E37 -> 0.11111111 | J37: =SUM(J35:J36) -> 1 | K37: =J37/E37 -> 0.11111111 | L37: =SUM(L35:L36) -> 0 | M37: =L37/E84 -> #DIV/0! | N37: =SUM(N35:N36) -> 3 | O37: =(F37+H37+J37+L37)/E37 -> 0.33333333
C38: Carieră judiciară | D38: I | E38: 12 | F38: 0 | G38: =F38/E38 -> 0 | H38: 1 | I38: =H38/E38 -> 0.083333333 | J38: 2 | K38: =J38/E38 -> 0.16666667 | L38: 0 | M38: =L38/E85 -> #DIV/0! | N38: =SUM(F38+H38+J38+L38) -> 3 | O38: =(F38+H38+J38+L38)/E38 -> 0.25
D39: Total | E39: =E38 -> 12 | F39: =F38 -> 0 | G39: =F39/E39 -> 0 | H39: =H38 -> 1 | I39: =H39/E39 -> 0.083333333 | J39: =J38 -> 2 | K39: =J39/E39 -> 0.16666667 | L39: =L38 -> 0 | M39: =L39/E86 -> #DIV/0! | N39: =N38 -> 3 | O39: =(F39+H39+J39+L39)/E39 -> 0.25
C40: Total facultate master | E40: =E28+E31+E34+E37+E39 -> 57 | F40: =F28+F34+F31+F37+F39 -> 3 | G40: =F40/E40 -> 0.052631579 | H40: =H28+H34+H31+H37+H39 -> 7 | I40: =H40/E40 -> 0.12280702 | J40: =J28+J31+J34+J37+J39 -> 5 | K40: =J40/E40 -> 0.087719298 | L40: =L28+L34+L37+L39 -> 0 | M40: =L40/E85 -> #DIV/0! | N40: =N28+N34+N37+N39 -> 13 | O40: =(F40+H40+J40+L40)/E40 -> 0.26315789
C41: TOTAL facultate | E41: =E25+E40 -> 322 | F41: =F25+F40 -> 11 | G41: =F41/E41 -> 0.034161491 | H41: =SUM(H25,H40) -> 34 | I41: =H41/E41 -> 0.10559006 | J41: =SUM(J25,J40) -> 35 | K41: =J41/E41 -> 0.10869565 | L41: =SUM(L25,L40) -> 0 | M41: =L41/E86 -> #DIV/0! | N41: =SUM(N25,N40) -> 78 | O41: =(F41+H41+J41+L41)/E41 -> 0.2484472

Sheet Munka22
B3: Gradul de mulţumire a studenţilor din ultimul an de studiu cu activitatea didactică în anul 2024-2025 (Se prelucrează răspunsurile de la punctul 1,2,23. al Chestionarului)
B4: Facultatea | C4: Programul de studiu | D4: Nr. total studenţi din ultimul an de studiu | E4: Studenţi evaluaţi | G4: Foarte mulţumiţi | I4: Mulţumiţi | K4: Mediu mulţumiţi | M4: Nemulţumiţi
E5: Nr | F5: % | G5: Nr | H5: % | I5: Nr | J5: % | K5: Nr | L5: % | M5: Nr | N5: %
B6: de Ştiinţe şi Arte Cluj-Napoca | C6: Relaţii internaţionale şi studii europene | D6: 12 | E6: =SUM(G6,I6,K6,M6) -> 4 | F6: =E6/D6 -> 0.33333333 | G6: 3 | H6: =G6/E6 -> 0.75 | I6: 1 | J6: =I6/E6 -> 0.25 | L6: =K6/E6 -> 0 | N6: =M6/E6 -> 0
C7: Drept | D7: 12 | E7: =SUM(G7,I7,K7,M7) -> 3 | F7: =E7/D7 -> 0.25 | G7: 1 | H7: =G7/E7 -> 0.33333333 | I7: 1 | J7: =I7/E7 -> 0.33333333 | K7: 1 | L7: =K7/E7 -> 0.33333333 | N7: =M7/E7 -> 0
C8: Cinematografie, fotografie, media | D8: 24 | E8: =SUM(G8,I8,K8,M8) -> 4 | F8: =E8/D8 -> 0.16666667 | H8: =G8/E8 -> 0 | I8: 3 | J8: =I8/E8 -> 0.75 | K8: 1 | L8: =K8/E8 -> 0.25 | N8: =M8/E8 -> 0
C9: Ştiinţa mediului | D9: 6 | E9: =SUM(G9,I9,K9,M9) -> 1 | F9: =E9/D9 -> 0.16666667 | H9: =G9/E9 -> 0 | J9: =I9/E9 -> 0 | K9: 1 | L9: =K9/E9 -> 1 | N9: =M9/E9 -> 0
C10: Coregrafie | D10: 13 | E10: =SUM(G10,I10,K10,M10) -> 1 | F10: =E10/D10 -> 0.076923077 | H10: =G10/E10 -> 0 | J10: =I10/E10 -> 0 | K10: 1 | L10: =K10/E10 -> 1 | N10: =M10/E10 -> 0
C11: Total licenţă | D11: =SUM(D6:D10) -> 67 | E11: =SUM(E6:E10) -> 13 | F11: =E11/D11 -> 0.19402985 | G11: =SUM(G6:G10) -> 4 | H11: =G11/E11 -> 0.30769231 | I11: =SUM(I6:I10) -> 5 | J11: =I11/E11 -> 0.38461538 | K11: =SUM(K6:K10) -> 4 | L11: =K11/E11 -> 0.30769231 | M11: =SUM(M6:M10) -> 0 | N11: =M11/E11 -> 0
C12: Diplomație și studii interculturale | D12: 2 | E12: =SUM(G12,I12,K12,M12) -> 1 | F12: =E12/D12 -> 0.5 | H12: =G12/E12 -> 0 | I12: 1 | J12: =I12/E12 -> 1 | L12: =K12/E12 -> 0 | N12: =M12/E12 -> 0
C13: Studii de film | D13: 4 | E13: =SUM(G13,I13,K13,M13) -> 1 | F13: =E13/D13 -> 0.25 | H13: =G13/E13 -> 0 | J13: =I13/E13 -> 0 | L13: =K13/E13 -> 0 | M13: 1 | N13: =M13/E13 -> 1
C14: Protecția si monitorizarea mediului | D14: 1 | E14: =SUM(G14,I14,K14,M14) -> 1 | F14: =E14/D14 -> 1 | H14: =G14/E14 -> 0 | I14: 1 | J14: =I14/E14 -> 1 | L14: =K14/E14 -> 0 | N14: =M14/E14 -> 0
C15: Carieră judiciară | D15: 11 | E15: =SUM(G15,I15,K15,M15) -> 2 | F15: =E15/D15 -> 0.18181818 | G15: 1 | H15: =G15/E15 -> 0.5 | I15: 1 | J15: =I15/E15 -> 0.5 | L15: =K15/E15 -> 0 | N15: =M15/E15 -> 0
C16: Total master | D16: =SUM(D12:D15) -> 18 | E16: =SUM(E12:E15) -> 5 | F16: =E16/D16 -> 0.27777778 | G16: =SUM(G12:G15) -> 1 | H16: =G16/E16 -> 0.2 | I16: =SUM(I12:I15) -> 3 | J16: =I16/E16 -> 0.6 | K16: =SUM(K12:K15) -> 0 | L16: =K16/E16 -> 0 | M16: =SUM(M12:M15) -> 1 | N16: =M16/E16 -> 0.2
C17: TOTAL Facultate | D17: =D11+D16 -> 85 | E17: =E11+E16 -> 18 | F17: =E17/D17 -> 0.21176471 | G17: =G11+G16 -> 5 | H17: =G17/E17 -> 0.27777778 | I17: =I11+I16 -> 8 | J17: =I17/E17 -> 0.44444444 | K17: =K11+K16 -> 4 | L17: =K17/E17 -> 0.22222222 | M17: =M11+M16 -> 1 | N17: =M17/E17 -> 0.055555556

Sheet Munka23
B3: Gradul de mulţumire al studenţilor din ultimul an de studiu cu personalul didactic auxiliar şi administrativ în anul 2024-2025 (Se prelucreaza răspunsurile de la punctele 6,17. al Chestionarului)
B4: Facultatea | C4: Programul de studiu | D4: Nr. total studenţi din ultimul an de studiu | E4: Studenţi evaluaţi | G4: Foarte mulţumiţi | I4: Mulţumiţi | K4: Mediu mulţumiţi | M4: Nemulţumiţi
E5: Nr | F5: % | G5: Nr | H5: % | I5: Nr | J5: % | K5: Nr | L5: % | M5: Nr | N5: %
B6: de Ştiinţe şi Arte Cluj-Napoca | C6: Relaţii internaţionale şi studii europene | D6: 12 | E6: =SUM(G6,I6,K6,M6) -> 4 | F6: =E6/D6 -> 0.33333333 | G6: 1 | H6: =G6/E6 -> 0.25 | I6: 3 | J6: =I6/E6 -> 0.75 | L6: =K6/E6 -> 0 | N6: =M6/E6 -> 0
C7: Drept | D7: 12 | E7: =SUM(G7,I7,K7,M7) -> 3 | F7: =E7/D7 -> 0.25 | H7: =G7/E7 -> 0 | I7: 2 | J7: =I7/E7 -> 0.66666667 | K7: 1 | L7: =K7/E7 -> 0.33333333 | N7: =M7/E7 -> 0
C8: Cinematografie, fotografie, media | D8: 24 | E8: =SUM(G8,I8,K8,M8) -> 4 | F8: =E8/D8 -> 0.16666667 | G8: 2 | H8: =G8/E8 -> 0.5 | I8: 1 | J8: =I8/E8 -> 0.25 | K8: 1 | L8: =K8/E8 -> 0.25 | N8: =M8/E8 -> 0
C9: Ştiinţa mediului | D9: 6 | E9: =SUM(G9,I9,K9,M9) -> 1 | F9: =E9/D9 -> 0.16666667 | H9: =G9/E9 -> 0 | I9: 1 | J9: =I9/E9 -> 1 | L9: =K9/E9 -> 0 | N9: =M9/E9 -> 0
C10: Coregrafie | D10: 13 | E10: =SUM(G10,I10,K10,M10) -> 1 | F10: =E10/D10 -> 0.076923077 | H10: =G10/E10 -> 0 | I10: 1 | J10: =I10/E10 -> 1 | L10: =K10/E10 -> 0 | N10: =M10/E10 -> 0
C11: Total licenţă | D11: =SUM(D6:D10) -> 67 | E11: =SUM(E6:E10) -> 13 | F11: =E11/D11 -> 0.19402985 | G11: =SUM(G6:G10) -> 3 | H11: =G11/E11 -> 0.23076923 | I11: =SUM(I6:I10) -> 8 | J11: =I11/E11 -> 0.61538462 | K11: =SUM(K6:K10) -> 2 | L11: =K11/E11 -> 0.15384615 | M11: =SUM(M6:M10) -> 0 | N11: =M11/E11 -> 0
C12: Diplomație și studii interculturale | D12: 2 | E12: =SUM(G12,I12,K12,M12) -> 1 | F12: =E12/D12 -> 0.5 | G12: 1 | H12: =G12/E12 -> 1 | J12: =I12/E12 -> 0 | L12: =K12/E12 -> 0 | N12: =M12/E12 -> 0
C13: Studii de film | D13: 4 | E13: =SUM(G13,I13,K13,M13) -> 1 | F13: =E13/D13 -> 0.25 | H13: =G13/E13 -> 0 | J13: =I13/E13 -> 0 | K13: 1 | L13: =K13/E13 -> 1 | N13: =M13/E13 -> 0
C14: Protecția si monitorizarea mediului | D14: 1 | E14: =SUM(G14,I14,K14,M14) -> 1 | F14: =E14/D14 -> 1 | H14: =G14/E14 -> 0 | I14: 1 | J14: =I14/E14 -> 1 | L14: =K14/E14 -> 0 | N14: =M14/E14 -> 0
C15: Carieră judiciară | D15: 11 | E15: =SUM(G15,I15,K15,M15) -> 2 | F15: =E15/D15 -> 0.18181818 | G15: 2 | H15: =G15/E15 -> 1 | J15: =I15/E15 -> 0 | L15: =K15/E15 -> 0 | N15: =M15/E15 -> 0
C16: Total master | D16: =SUM(D12:D15) -> 18 | E16: =SUM(E12:E15) -> 5 | F16: =E16/D16 -> 0.27777778 | G16: =SUM(G12:G15) -> 3 | H16: =G16/E16 -> 0.6 | I16: =SUM(I12:I15) -> 1 | J16: =I16/E16 -> 0.2 | K16: =SUM(K12:K15) -> 1 | L16: =K16/E16 -> 0.2 | M16: =SUM(M12:M15) -> 0 | N16: =M16/E16 -> 0
C17: TOTAL Facultate | D17: =D11+D16 -> 85 | E17: =E11+E16 -> 18 | F17: =E17/D17 -> 0.21176471 | G17: =G11+G16 -> 6 | H17: =G17/E17 -> 0.33333333 | I17: =I11+I16 -> 9 | J17: =I17/E17 -> 0.5 | K17: =K11+K16 -> 3 | L17: =K17/E17 -> 0.16666667 | M17: =M11+M16 -> 0 | N17: =M17/E17 -> 0

Sheet Munka24
B1: Gradul de mulţumire a studenţilor din ultimul an de studiu cu infrastructura oferită în anul 2024-2025 (Se prelucrează răspunsurile de la punctele 3,4,5,7,8,10,12,13,14,15,16. al Chestionarului)
B2: Facultatea | C2: Programul de studiu | D2: Nr. total studenţi din ultimul an de studiu | E2: Studenţi evaluaţi | G2: Foarte mulţumiţi | I2: Mulţumiţi | K2: Mediu mulţumiţi | M2: Nemulţumiţi
E3: Nr | F3: % | G3: Nr | H3: % | I3: Nr | J3: % | K3: Nr | L3: % | M3: Nr | N3: %
B4: de Ştiinţe şi Arte Cluj-Napoca | C4: Relaţii internaţionale şi studii europene | D4: 12 | E4: =SUM(G4,I4,K4,M4) -> 4 | F4: =E4/D4 -> 0.33333333 | G4: 3 | H4: =G4/E4 -> 0.75 | I4: 1 | J4: =I4/E4 -> 0.25 | L4: =K4/E4 -> 0 | N4: =M4/E4 -> 0
C5: Drept | D5: 12 | E5: =SUM(G5,I5,K5,M5) -> 3 | F5: =E5/D5 -> 0.25 | H5: =G5/E5 -> 0 | I5: 2 | J5: =I5/E5 -> 0.66666667 | K5: 1 | L5: =K5/E5 -> 0.33333333 | N5: =M5/E5 -> 0
C6: Cinematografie, fotografie, media | D6: 24 | E6: =SUM(G6,I6,K6,M6) -> 4 | F6: =E6/D6 -> 0.16666667 | H6: =G6/E6 -> 0 | I6: 3 | J6: =I6/E6 -> 0.75 | K6: 1 | L6: =K6/E6 -> 0.25 | N6: =M6/E6 -> 0
C7: Ştiinţa mediului | D7: 6 | E7: =SUM(G7,I7,K7,M7) -> 1 | F7: =E7/D7 -> 0.16666667 | H7: =G7/E7 -> 0 | I7: 1 | J7: =I7/E7 -> 1 | L7: =K7/E7 -> 0 | N7: =M7/E7 -> 0
C8: Coregrafie | D8: 13 | E8: =SUM(G8,I8,K8,M8) -> 1 | F8: =E8/D8 -> 0.076923077 | H8: =G8/E8 -> 0 | I8: 1 | J8: =I8/E8 -> 1 | L8: =K8/E8 -> 0 | N8: =M8/E8 -> 0
C9: Total licenţă | D9: =SUM(D4:D8) -> 67 | E9: =SUM(E4:E8) -> 13 | F9: =E9/D9 -> 0.19402985 | G9: =SUM(G4:G8) -> 3 | H9: =G9/E9 -> 0.23076923 | I9: =SUM(I4:I8) -> 8 | J9: =I9/E9 -> 0.61538462 | K9: =SUM(K4:K8) -> 2 | L9: =K9/E9 -> 0.15384615 | M9: =SUM(M4:M8) -> 0 | N9: =M9/E9 -> 0
C10: Diplomație și studii interculturale | D10: 2 | E10: =SUM(G10,I10,K10,M10) -> 1 | F10: =E10/D10 -> 0.5 | H10: =G10/E10 -> 0 | I10: 1 | J10: =I10/E10 -> 1 | L10: =K10/E10 -> 0 | N10: =M10/E10 -> 0
C11: Studii de film | D11: 4 | E11: =SUM(G11,I11,K11,M11) -> 1 | F11: =E11/D11 -> 0.25 | H11: =G11/E11 -> 0 | J11: =I11/E11 -> 0 | K11: 1 | L11: =K11/E11 -> 1 | N11: =M11/E11 -> 0
C12: Protecția si monitorizarea mediului | D12: 1 | E12: =SUM(G12,I12,K12,M12) -> 1 | F12: =E12/D12 -> 1 | G12: 1 | H12: =G12/E12 -> 1 | J12: =I12/E12 -> 0 | L12: =K12/E12 -> 0 | N12: =M12/E12 -> 0
C13: Carieră judiciară | D13: 11 | E13: =SUM(G13,I13,K13,M13) -> 2 | F13: =E13/D13 -> 0.18181818 | G13: 2 | H13: =G13/E13 -> 1 | J13: =I13/E13 -> 0 | L13: =K13/E13 -> 0 | N13: =M13/E13 -> 0
C14: Total master | D14: =SUM(D10:D13) -> 18 | E14: =SUM(E10:E13) -> 5 | F14: =E14/D14 -> 0.27777778 | G14: =SUM(G10:G13) -> 3 | H14: =G14/E14 -> 0.6 | I14: =SUM(I10:I13) -> 1 | J14: =I14/E14 -> 0.2 | K14: =SUM(K10:K13) -> 1 | L14: =K14/E14 -> 0.2 | M14: =SUM(M10:M13) -> 0 | N14: =M14/E14 -> 0
C15: TOTAL Facultate | D15: =D9+D14 -> 85 | E15: =E9+E14 -> 18 | F15: =E15/D15 -> 0.21176471 | G15: =G9+G14 -> 6 | H15: =G15/E15 -> 0.33333333 | I15: =I9+I14 -> 9 | J15: =I15/E15 -> 0.5 | K15: =K9+K14 -> 3 | L15: =K15/E15 -> 0.16666667 | M15: =M9+M14 -> 0 | N15: =M15/E15 -> 0

Sheet Munka25
A1: Raport student/cadru didactic pe anul universitar 2025/2026 (înscriși la începutul anului)
A3: Facultatea | B3: Programul de studiu | C3: Nr. total studenţi din programul de studiu
A5: de Ştiinţe şi Arte Cluj-Napoca | B5: Relaţii internaţionale şi studii europene | C5: 43
B6: Drept | C6: 120
B7: Cinematografie, fotografie, media | C7: 43
B8: Cinematografie, Fotografie, Media - CAV | C8: 6
B9: Cinematografie, Fotografie, Media - IMG | C9: 6
B10: Cinematografie, Fotografie, Media - REG | C10: 8
B11: Ştiinţa mediului | C11: 13
B12: Arta spectacolului | C12: 40
B13: Total licenţă | C13: =SUM(C5:C12) -> 279
B14: Diplomație și studii interculturale | C14: 9
B15: Relaţii internaţionale şi geopolitică | C15: 13
B16: Studii de film | C16: 18
B17: Protecția și monitorizarea mediului | C17: 9
B18: Carieră judiciară | C18: 12
B19: Total master | C19: =SUM(C14:C18) -> 61
B20: TOTAL Facultate | C20: =SUM(C19,C13) -> 340

Sheet Munka26
B2: Dotarea laboratorelor didactice la 31 decembrie 2025
A3: Centrul de studiu | B3: Nr. crt. | C3: Denumirea laboratorului didactic | D3: Date de identificare a spaţiului (amplasament, suprafaţă, volum) | E3: Capacitatea (nr. locuri) | F3: Raport supr./ nr. locuri | G3: Raport supr./ nr. locuri conform normelor ARACIS* | H3: Denumirea echipamentelor (instalaţiilor) din dotarea laboratorului | I3: Nr. inventar | J3: Anul achiziției | K3: Discipline deservite*
A4: CJ | B4: 1 | C4: Laborator de microscopie | D4: Sala B404; 42,81 mp | E4: 12 | F4: 3.56 | G4: 1.4 | H4: 5 buc.Microscop optic binocular | I4: U 3001-3005 | J4: 2003 | K4: Biologie vegetală; Biologie animală; Microbiologie; Hidrobiologie; Mediul interior; Geologia mediului; Ecotoxicologie; Mineralogia mediului
H5: 1buc.Microscop optic binocular | I5: KUF 6030 | J5: 2011
H6: 1buc.Microscop optic trinocular MBL 2100 | I6: U 3032 | J6: 2003
H7: 1buc. Microscop inversat | I7: KUF 6019 | J7: 2007
H8: 3 buc. Microscop KRUSS model MBL2000 | I8: KUF 6014/1-3 | J8: 2006
H9: 5 buc.Stereomicroscop | I9: U 3033-3037 | J9: 2003
H10: 1buc.Stereomicroscop Zeiss | I10: U 3038 | J10: 2003
H11: 3 buc. Stereomicroscop KRUSS MSZ5000-IL-TL | J11: 2015
H12: 6 buc.Microscop binocular de polarizaţie | I12: U 3008-3013 | J12: 2003
H13: 1.buc. Microscop trinocular de polarizaţie | I13: U 3008-3014 | J13: 2003
H14: 1buc.Aparat de fotografiat digit. Nikon 8400 cu fotoadaptor | I14: KUF 6012 | J14: 2005
H15: 8 buc. Lupă de mare precizie | I15: UR 245/1-8 | J15: 2003
H16: 1buc.Autoclav RYPA AES 28 | I16: KUF 6015 | J16: 2006
H17: 1 buc. Agitator magnetic | I17: U 3068 | J17: 2003
H18: 1buc. Etuvă Geniab Mino OV160-30 | I18: U 3065 | J18: 2003
H19: 1 buc. Refulător de frunze Husqvarna | I19: KUF 312 | J19: 2007
H20: 2 buc. Plasă Planktonet | I20: UR 237-238 | J20: 2003
H21: 3 buc. Plasă Winlab | I21: UR 241-244 | J21: 2003
H22: 1 buc. Disc Secchi | I22: UR 239 | J22: 2003
H23: 1 buc. Binoclu Minox BV | I23: KUF 604 | J23: 2012
... H25: 1 buc. Frigider cu două uşi | I25: KUF 275 | J25: 2006
H26: 1 buc. Termostat universal Memmert WB
H27: Pc fujitsu siemens | I27: KUF 3032
H28: Sistem de filtrare millipore pompa de vid 1/PK | I28: KUF1092 | J28: 2016
H29: Pipeta automata Biohit 1000 | I29: KUF1096 | J29: 2016
H30: Pipeta automata Eppendorf 1000 | I30: KUF1097 | J30: 2016
H31: Pipeta automata Eppendorf 1000 | I31: KUF1098 | J31: 2016
H32: Dispenser automat Hirschmann Ceramus | I32: KUF1099 | J32: 2016
H33: Dispenser brand Dispensette Organic fix 5,0 ML | I33: KUF1100 | J33: 2016
H34: Aparat de monitorizare temp. umiditate Oakton Logger | I34: KUF1103/1 | J34: 2016
H35: Aparat de monitorizare temp. umiditate Oakton Logger | I35: KUF1103/2 | J35: 2016
H36: Aparat de monitorizare temp. umiditate Hanna HI 143 | I36: KUF1104/1 | J36: 2016
H37: Aparat de monitorizare temp. umiditate Hanna HI 143 | I37: KUF1104/2 | J37: 2016
H38: Logger test umididtate 174H | I38: KUF1105/1 | J38: 2016
H39: Logger test umididtate 174H | I39: KUF1105/2 | J39: 2016
... H54: Suport ecrane de proiectie | I54: KUF81107 | J54: 2018
H55: Ustensile metalice de laborator: Triunghi de sârmă; 2 buc. Trepied; 3buc. Sită din sârmă; 2 buc. Arzător Bunsen; Lingură pt. reactivi/Spatulă dublă/Micro spatulă pt.pulberi; 10 buc. Pensetă pt. uz lab. cu vârf ascuţit; 2 buc. Pensetă cu vârf îndoit f. rotundă; 2 buc. Pensetă cu vârf îndoit f. dreptunghiulară; 2 buc. Cleşte pt. creuzet; 9 buc. Suport ansă de însămânţare; Anse de însămânţare; Suport pt. cutii Petri; Pensetă dreaptă ROTH 300mm 2 buc.; Pensetă ROTH 5 buc.; Pensetă DUMONT 5 buc.
H56: Ustensile de laborator din sticlă, porţelan şi cuarţ:
H57: 10 buc.Pipete gradate 2ml,5ml,10ml; 2 buc. Pipetă gradată pt. uz microbiologic 5 ml; 5 buc.Pipetă cu bulă 1ml,2ml,5ml,10ml,25ml, 1 cutii Pipete Pasteur de unică folosinţă; 8 buc. Cilindru gradat 5ml,10ml,25ml,50ml,100ml,1000ml; 10 buc. Pahare cilindrice Berzelius 25ml,100ml,150ml,250ml,600ml,800ml,1000ml,2000ml; 10 buc. Flacoane conice tip Erlenmeyer 50ml,100ml,250ml,150ml,300ml,500ml; 10 buc. Sticlă pt. lichide dif. mărimi; 10 buc. Sticlă pt. pulberi 250ml,500ml; 2 buc. Sticlă cu pipetă, cu picurător şlefuit; 5 buc. Sticlă de laborator cu capac filetat din plastic, autoclavabil; 5 buc. Pâlnie; 2 buc. Cristalizor;30 buc. Sticlă de ceas dif. mărimi; 500 buc. Eprubete dif. mărimi, 1 buc. Vas de vopsire, din sticlă ; 3 buc. Camere de numerare pt microscopie; Lamele şi lame de microscop; 30 buc. Cutii Petri; 5 buc. Tavă de uz general; 1 buc. Uscător de vase montabil pe perete; 5 buc. Stativ pt. eprubete
A58: CJ | B58: 2 | C58: Laborator analize de mediu | D58: Sala B402; 57,88 mp | E58: 12 | F58: 4.82 | G58: 1.4 | H58: 1buc. Nişă chimică Dinamica | I58: KUF 6023 | J58: 2007 | K58: Chimie anorganică; Chimie organică; Chimie analitică, Chimia mediului; Biochimie generală; Poluarea chimică şi analiza probelor de mediu; Ştiinţa solului; Mediul interior; Analitica mediului
H59: 1buc. Flamfotometru | I59: KUF 6012 | J59: 2005
H60: 1buc. Aparat distilat apă Merit W4000 | I60: U 3039 | J60: 2003
H61: 1buc. Termostat universal LAUDA | I61: KUF 6008 | J61: 2005
H62: 1 buc. Agitator magnetic Heidolph MR 3001 | I62: KUF143 | J62: 2005
H63: 1buc. Refractometru ABBE PRISMA | I63: U 3040 | J63: 2003
H64: 1buc. Stativ rotativ pt. eprubete | I64: U 6006 | J64: 2003
H65: 1 buc. Vâscozimetru Hoppler | I65: KUF 220 | J65: 2005
H66: 1 buc. Baie de nisip | I66: KUF 6029 | J66: 2011
H67: 1buc. Fotocolorimetru DR 890 | I67: U 3045 | J67: 2003
H68: 1 buc. pH-metru, conductometru WTW 340i | I68: KUF 6004 | J68: 2005
H69: 1 buc. Balanţă digitală SHIMADZU | I69: xxx | J69: X
H70: 1 buc. Agitator | J70: 2014
H71: 1 buc. Agitator cu încălzire HP6 Variomag | J71: 2014
H72: 1 buc. Centrifugă micro20 HETTICH G282 | J72: 2014
H73: 5 buc. Manta de încălzire RAYPA | I73: KUF 752/1-5 | J73: 2013
H74: 1 buc. Manta de încălzire FALC
H75: 1 buc. Manta de încălzire RFT | I75: KUF 406 | J75: 2009
H76: 1 buc. Sistem de apă ultrapură DIRECT Q3 UV | J76: 2015
H77: 1buc. Multimetru pentru cercetare | I77: KUF 6027 | J77: 2008
H78: 1 buc. Frigider Arctic | J78: 2015
H79: 1 buc. Oxigenometru portabil | I79: KUF366 | J79: 2008
H80: 1buc. Balanţă Analitică Digitală | I80: U 3043 | J80: 2003
H81: 1 buc. Aparat de tip Kipp pt. generat gaze | I81: KUF 256 | J81: 2006
H82: Laptop Acer | I82: KUF3013 | J82: 2006
H83: Mojar portelan 160 ml | I83: KUF1071/1 | J83: 2016
H84: Mojar portelan 160 ml | I84: KUF1071/2 | J84: 2016
H85: Masa de laborator cu sertar | I85: KUF1083/3 | J85: 2016
H86: Baie cu ultrasunete tip S120H | I86: KUF1095 | J86: 2016
H87: Etuva Memmert model UN75 plus | I87: KUF6044 | J87: 2016
H88: Pipeta Reseearch Plus 100-1000 ul | I88: KUF70526 | J88: 2017
H89: Cutie termoelectrica (S. 407) | I89: KUF70818 | J89: 2017
H90: Rasnita cafea Mulino Caffe 6210 | I90: KUF71205 | J90: 2017
... H97: Capac si colector sitare uscata 100x40 mm | I97: KUF80622 | J97: 2018
H101: Ustensile metalice de laborator: 2 buc.Stativ, cu talpă dreptunghiulară, cu bară; 2 buc. Stativ, cu talpă triunghiulară, cu bară; 10 buc. mufă dublă ; 5 buc. Clemă pt. balon; 5 buc. Clemă universal; 7 buc. Clemă de biuretă, cu mufă; 3 buc. Inel de filtrare; 3 buc. Triunghi de sârmă; 3 buc. Trepied; 3 buc. Sită din sârmă; 1 buc. Suport de înâlţime reglabilă; 3 buc. Arzător Bunsen; Lingură pt. reactivi/Spatulă dublă/Micro spatulă pt.pulberi; 3 buc. Clemă Mohr
H102: Ustensile de laborator din sticlă, porţelan şi cuarţ:
H103: 1 buc. Exicator pt. vid+placă din porţelan; 20 buc.Pipete gradate 2ml,5ml,10ml; 2 buc. Pipetă gradată cu piston; 15 buc.Pipetă cu bulă 1ml,2ml,5ml,10ml,25ml,50ml; 30 buc. Cilindru gradat 5ml,10ml,25ml,50ml,100ml,1000ml; 70 buc. Baloane cotate 5ml,20ml,25ml,50ml,100ml,200ml, 250ml,500ml,1000ml; 50 buc. Pahare cilindrice Berzelius 25ml,100ml,150ml,250ml,600ml,800ml,1000ml,2000ml; 60 buc. Flacoane conice tip Erlenmeyer 50ml,100ml,250ml,150ml,300ml,500ml,1000ml; 2 buc. Flacon conic pt. vid; 5 buc. Balon cu fund rotund 50ml,100ml; 10 buc. Sticlă pt. lichide dif. mărimi; 15 buc. Sticlă pt. pulberi 250ml,500ml; 5 buc. Sticlă de laborator cu capac filetat din plastic, autoclavabil; 8 buc. Pâlnie de separare 250ml, 15 buc. Pâlnie; 10 buc. Sticlă de ceas dif. mărimi; 5 buc. Fiole de cântărire; 500 buc. Eprubete dif. mărimi, din sticlă ; 3 buc. Balon cu 2 gâturi; 8 buc. Refrigerent tip Liebig; 5 buc. Capsulă din porţelan; 4 buc. Mojar+pistil din porţelan; 5 buc. Creuzet din porţelan; 2 buc. Pâlnie Buchner; 4 buc. Cuve pt. fotometrie(cuarţ şi sticlă optică); 1 buc. Stativ tavă pt. pipete; 1 buc. Coş pt. pipete; 5 buc. Pisetă 250ml,500ml; 7 buc. Tavă de uz general; 3 buc. Uscător de vase montabil pe perete; 7 buc. Stativ pt. eprubete, autoclavabil; 6 buc. Baghete magnetice, învelite cu teflon; Uscător de vase tip stativ
A105: CJ | B105: 3 | C105: Laborator instrumental | D105: Sala B403; 34,8 mp | E105: 12 | F105: 2.9 | G105: 1.4 | H105: 1buc. Aparat monitorizare gaze in atmosferă - Radon | I105: U 3070 | J105: 2004 | K105: Fizica mediului; Atmosfera şi calitatea mediului; Poluarea mediului prin agenţi fizici; Radioactivitatea mediului; Energii neconvenţionale; Mediul interior; Monitoringul integrat al mediului; Chimie analitică; Chimia mediului; Biochimie generală; Poluarea chimică şi analiza probelor de mediu; Analitica mediului; Monitorizarea factorilor fizici ai mediului
H106: 1buc. Dozimetru şi contaminometru de radiaţii tip monitor | I106: KUF 3002 | J106: 2004
H107: 1 buc. Luxmetru Entech | I107: U 174 | J107: 2003
H108: 1buc. Gamaspectrometru cu laptop | I108: KUF 6011 | J108: 2005
H109: 1buc. Numărător Alfa-beta Protean-MC +Laptop | I109: KUF 6016 | J109: 2006
H110: 1buc. Ap. de măsurare a câmpului electrom. Tip. EFA 300 | I110: KUF 3003 | J110: 2004
H111: 1buc. Ap. de măsurare a câmpului electrom.Tip. EMR 300 | I111: KUF 3004 | J111: 2004
H112: 1buc. Dozimetru portabil Automess | I112: KUF 6017 | J112: 2006
H113: 1buc. Intrument pt. măsurarea puterii vântului | I113: UR 247 | J113: 2003
H114: 1buc. Aparat pt. măsurarea ploii cu afişaj digital | I114: UR 248 | J114: 2003
H115: 1buc. Higrometru cu afişaj LCD | I115: UR 254 | J115: 2003
H116: 1buc. Sonometru Quest | I116: KUF 3005 | J116: 2004
H117: 1buc. Aerosol - aparat de măsurarea a pulberii | I117: KUF 6002 | J117: 2004
... H132: 2 buc. Termometru digital | I132: KUF 374/1-2 | J132: 2008
H133: 1 buc. Aparat multimetru Multi 3320 | J133: 2015
H134: Imprimanta XeroxRicoh Mp200 | I134: Inchiriat cu contract | J134: 2013
H135: Microscop optic binocular | I135: KUF6040 | J135: 2016
H136: Pipeta Eppendorf 20-200 | I136: KUF1171 | J136: 2016
H137: Pipeta Eppendorf 500-5000 | I137: KUF1172 | J137: 2016
H138: Balanta tehnica model PS 2100 | I138: KUF6048 | J138: 2017
H139: Dron DJI Phatom 4 Pro (S. 408) | I139: KUF2205 | J139: 2017
H140: Balanra analitica Pioneer (S. 408) | I140: KUF6052 | J140: 2017
...

Sheet Munka27
B2: Dotarea laboratoarelor de informatică la 31 decembrie 2025
A3: Centrul de studiu | B3: Nr. crt. | C3: Denumirea laboratorului | D3: Date de identificare a spaţiului (amplasament, suprafaţă, volum) | E3: Capaci-tatea (nr. locuri) | F3: Raport supr./ nr. locuri | G3: Raport supr./ nr. locuri conform normelor ARACIS* | H3: Denumirea echipamentelor (instalaţiilor) din dotarea laboratorului | I3: Nr. inventar | J3: Anul achiziției | K3: Discipline deservite*
A4: CJ | B4: 1 | C4: Laborator informatică (A402) | D4: Calea Turzii nr. 4., etaj 4. 57.88 mp | E4: 28 | F4: 2,56 | G4: 2,50 | H4: 5 buc. Calculatoare: Intel i5, 8 GbRAM, 256 GB SSD, DVD-RW | I4: UF453/4-UF453/8 | J4: 2018 | K4: Toate
H5: 6 buc. Monitor LCD TFT 19" | I5: UF454/3-UF454/14 | J5: 2009 | K5: Toate
H6: Proiector Portabil Epson EB-X41 Tablă | I6: UF3037 | J6: 2018 | K6: Toate
H7: Sistem PC - I5 SKYLAKE - 12 buc Monitor HP - 23" - 12 buc | I7: UF955/1-12 UF956/1-12 | J7: 2015 | K7: Toate

Sheet Munka28
B3: Dotarea studiourilor media la 31 decembrie 2025
A4: Centrul de studiu | B4: Nr. crt. | C4: Denumirea studioului didactic | D4: Date de identificare a spaţiului (amplasament, suprafaţă, volum) | E4: Capaci-tatea (nr. locuri) | F4: Raport supr./ nr. locuri | G4: Raport supr./ nr. locuri conform normelor ARACIS* | H4: Denumirea echipamentelor (instalaţiilor) din dotare | I4: Nr. inventar | J4: Anul achiziției | K4: Discipline deservite**
A5: CJ | B5: 1 | C5: Studio media | D5: Sala B021, B022 217.31 MP | E5: 30 5 | F5: 6.48 4.54 | G5: 4 4 | H5: - 1 buc. cameră video Sony WSP 570 cu accesorii: | I5: UR2001 | J5: 2005 | K5: (Arta imaginii, Arta imaginii de film, Arta imaginii cinematografice, Cunoştințe operator imagine, Regie TV, Regie de film, Fotografie, Fotoprocese, Montaj film și TV, Adaptare literară, Tehnici și tehnologii TV, Actorie de film, Optică și aparaturi de filmare, Tehnici iluminatorii, Exponometrie, Scenariu tehnic și proiect cinematografic, Practică)
H6: - obiectiv Angénieux 15x8.3 AIF+
H7: - monitor Sony DXF-51 BW viewfinder
H8: - Angénieux SZH 93 servo zoom/focus handle
H9: - Angénieux CA 93 servo focus handle
H10: - Angénieux back focus module
H11: - 1 buc. cameră video Full HD Sony PMW EX-3 | I11: KUF2010 | J11: 2009
H12: - 1 buc. cameră video Full HD Sony PMW EX-1 | I12: KUF2085 | J12: 2011
H13: - 3 buc. camere video Sony DSR PD-170 | I13: UR2073 KUF2003 KUF2004 | J13: 2005 2007 2007
H14: - 3 buc. camere video Sony DSR PD-150 | I14: UR2010 UR2011 UR2012 | J14: 2005
H15: - 1 buc. cameră Arriflex IIC, 35 mm, cu accesorii: | I15: KUF2009 | J15: 2007
H16: obiective Taylor-Hobson: 25 mm, 32 mm, 40 mm, 50 mm, 75 mm
H17: adaptor Arnold Richter
H18: 4 buc. casete 60 m
H19: 1 buc. casetă 150 m
H20: accesorii pentru animaţie frame by frame (motor single frame, zusatzblende, numărător cadre, telecomandă)
H21: motor sincron 24 cadre/s
H22: motor cu viteze variabile
H23: acumulator 16V
H24: - 3 buc. casetoscoape Sony DSR-25 | I24: UR2016 UR2017 UR2018 | J24: 2005
H25: - 1 buc. trepied Sachtler DV 12 Pro | I25: UR2007 | J25: 2005
H26: - 3 buc. trepiede Sachtler DV II/2 cu dolly | I26: UR2013 | J26: 2005
I27: UR2014
I28: UR2015
H29: - 1 buc. trepied Manfrotto-Vinten Pro 5DC/PT 525 | I29: UR2075 | J29: 2005
H30: - 1 buc. trepiede Manfrotto QuickSet | I30: UR259 | J30: 2006
H31: -1 Trepied Manfrotto | I31: KUF2076 | J31: 2010
H32: Steady cam Flaycam+mon 7” | I32: KUF2077 | J32: 2010
H33: - 6 buc. lumini Theatre Spot cu accesorii (stative, lentile Fresnel, parasolare) | I33: UR2022 KUF2023 UR2024 UR2025 UR2026 UR2027 | J33: 2005
H34: 6 buc. lumini Arri Junior 650 W cu accesorii (stative, lentile Fresnel, parasolare) | I34: KUF2079-KUF2084 | J34: 2010
H35: - 2 buc. reflectoare Janiro 1000 W | I35: UR168/1 UR168/2 | J35: 2006
H36: - 2 seturi de reflectoare Balogh 1000 W (2 seturi complete cu stative, cleme şi filtre incluse) | I36: UR2030 UR2031 | J36: 2005
H37: - 2 buc. surse de lumină cu tuburi fluorescente Balogh 350 W | I37: UR2032 UR2033 | J37: 2005
H38: - 2 seturi lumini Sachtler HSL-1000, 350 W, portabile, cu accesorii (6 reflectoare, stative ) | I38: KUF3030 UR3031 | J38: 2008
H39: Reflector HMI 1200w Filmgear cu stativ | I39: KUF2088 | J39: 2011
H40: -6 buc. DimmerShowtec 10A | I40: KUF529 | J40: 2011
I41: 42010
H42: 2 seturi microport Sennheiser EW 112-P – G2 | I42: KUF3031/1-2 | J42: 2008
H43: 2 seturi microport Sennheiser EW 112 P- G3 | I43: KUF2089 | J43: 2001
I44: KUF2090
H45: - 3 buc. microfoane EV RE-50B | I45: UR167/1-3 | J45: 2006
H46: - 5 buc. microfoane lavaliere Sony ECM-77B | I46: UR171/1-5 | J46: 2006
H47: -1 buc. microfon RODE NTG-2 | I47: KUF461 | J47: 2010
H48: - 1 buc. microfon Sennheiser MKH 418, cu accesorii (boom, mount, paravânt) | I48: KUF2092 | J48: 2011
H49: - 1 buc. mixer/recorder audio Edirol R-4 | I49: US30027 | J49: 2008
H50: -1 buc. Recorder audio TASCAM DR680 | I50: KUF2086 | J50: 2011
H51: -1 Sistem sonorizare PEAVEY | I51: KUF3049 | J51: 2011
H52: - 10 buc. difuzoare active profesionale Sony SMS-1P | I52: UR173/1-10 | J52: 2005
H53: -1 buc reportofon audio ZOOM H4n | I53: KUF527 | J53: 2011
H54: - sistem traveling (platformă cu scaun, 18 buc. de şine, cca. 22 m) | I54: KUF389 KUF409 | J54: 2008
H55: - 1 buc. videoproiector Toshiba TLP-XD2000 | I55: KUF3034 | J55: 2008
H56: - 8 buc. Monitoare studio Sony Trinitron PVM-14N5E - 14” | I56: UR3046/1-8 | J56: 2005
... H85: Mixer Lumini | I85: KUF 781 | J85: 2014
H86: 3 buc. microfoane lavaliera sennheiser | J86: 2014
H87: Mixer Audio digital | I87: KUF2129 | J87: 2015
H88: Tabletă comandă mixer | I88: KUF2130 | J88: 2015
H89: Cap monitor digital | I89: KUF2131 | J89: 2015
H90: Microfon pentru instrument Sennheiser Drumset 900 | I90: KUF2132 | J90: 2015
H91: Microfon atmosferă studio - Neumann KM184 mt Stereo Se | I91: KUF2133 | J91: 2015
H92: Microfon voce studio - Neumann U87 | I92: KUF2135 | J92: 2015
H93: Microfon voce studiou - Neumann TLM 49 (Large, condenser, cardioid) | I93: KUF2136 | J93: 2015
H94: Microfon voce studiu - Neumann TLM 103 (Large) | I94: KUF2137 | J94: 2015
H95: Calculator editare audio cu monitor 29" | I95: KUF2139 | J95: 2015
H96: Cameră studio cu prompter | I96: KUF2141 | J96: 2015
H97: Controller cameră | I97: KUF2142 | J97: 2015
H98: Cameră studio | I98: KUF2143 | J98: 2015
... H255: Monitor Led Benq BL2711U 27" | I255: UF2247 | J255: 2018
J256: 2018
H257: Samyang kit obiectiv | I257: UF2237 | J257: 2018
H258: Monitor Shogun Inferno | I258: UF2238 | J258: 2018
H259: Monitor Small HD 702 | I259: UF2239 | J259: 2018
H260: Recorder Zoom F4+geanta | I260: UF2240 | J260: 2018
H261: Recorder Zoom F4+geanta | I261: UF2241 | J261: 2018
H262: Dolly IDS | I262: UF2242 | J262: 2018
H263: Suport umar Wondlan Sniper | I263: UF2243 | J263: 2018
H264: DJI Ronin MX + baterie | I264: UF2244 | J264: 2018
H265: Lampa HMI Arri D25 | I265: UF2245 | J265: 2018
H266: Lampa KinoFlo Celeb LED 250 | I266: UF2246 | J266: 2018
H267: Decor - STUDIO 300x166 cm | I267: KUF80106 | J267: 2018
H268: 3 buc Clappeboard ECB-03 | I268: KUF80506-08 | J268: 2018
... H353: Sine drepte pentru platforma dolly Proaim Stream 16ft Heavy-duty | I353: UFPNR2066 | J353: 2024

Sheet Munka29
B2: Dotarea atelierelor și parcurilor de mașini la 31 decembrie 2025
A3: Nr. crt. | B3: Denumirea atelierului/parcului didactic | C3: Date de identificare a spaţiului (amplasament, suprafaţă, volum) | D3: Capacitatea (nr. locuri) | E3: Nr. inventar | F3: Anul achiziției | G3: Discipline deservite
A4: 1 | B4: Facultatea de Ştiinţe şi Arte din Cluj-Napoca | C4: 1995 m3 | D4: 8 | E4: KUF4007 | F4: 2017 | G4: Toate
A5: 2 | B5: Facultatea de Ştiinţe şi Arte din Cluj-Napoca | C5: 1461 m3 | D5: 5 | E5: KUF4008 | F5: 2017 | G5: Toate
A6: 3 | B6: Facultatea de Ştiinţe şi Arte din Cluj-Napoca | C6: 1968 m2 | D6: 5 | E6: KUF4010 | F6: 2021 | G6: Toate
A7: 4 | B7: Facultatea de Ştiinţe şi Arte din Cluj-Napoca | C7: 1968 m3 | D7: 5 | E7: KUF4011 | F7: 2023 | G7: Toate

Sheet Munka30
B2: Dotarea bazei experiementale didactice la 31 decembrie 2025
A3: Centrul de studiu | B3: Nr. crt. | C3: Denumirea parcului didactic | D3: Date de identificare a spaţiului (amplasament, suprafaţă, se ataşează extrasul de carte funciară cu parcelare) | E3: Capaci-tatea (nr. de locuri) | F3: Raport supr./ nr. locuri | G3: Denumirea echipamentelor (instalaţiilor) din dotarea laboratorului | H3: Nr. inventar | I3: Anul achiziției | J3: Discipline deservite

Sheet Munka31
B2: Dotarea laboratoarelor de cercetare la 31 decembrie 2025
A3: Centrul de studiu | B3: Denumirea laboratorului de cercetare | C3: Date de identificare a spaţiului (amplasament, suprafaţă, volum) | D3: Capacitatea (nr. de locuri de muncă) | E3: Raport supr./ nr. locuri | F3: Domeniul de știință practicat | G3: Denumirea echipamentelor (instalaţiilor) din dotarea laboratorului | H3: Nr. inventar | I3: Anul achiziției | J3: Rezultate obținute (rapoarte de cercetare, publicații, participări la manifestări științifice, etc)
A4: CJ | B4: Laborator de cercetare “Ecosystem services” | C4: Corpul A, etaj 102; 8.64 mp | D4: 3+1 | F4: SM | G4: Stereomicroscop trinocular Kruss MSZ5600 | H4: KUF 6024 | I4: 2008
G5: Videocameră VOPC85 (videoocular pt. Calculator) | H5: KUF 516 | I5: 2009

Sheet Munka32
B2: Dotarea sălilor de curs și seminarii la 31 decembrie 2025
A3: Nr. crt. | B3: Denumirea sălii de curs/ seminar | C3: Date de identificare spaţiu (amplasament, suprafaţă, mp/volum, mc/) | D3: Capacitatea | E3: Raport supr./ nr. locuri | G3: Denumire echipamente tehnice de învăţare, predare şi comunicare | H3: Caracteristicile echipamentelor tehnice de învăţare, predare şi comunicare | I3: Anul achiziţiei
D4: Nr.locuri | E4: Real | F4: conform normelor ARACIS
A5: 1 | B5: Sala Óváry (curs) | C5: str. Matei Corvin nr. 4, parter 70.67 mp | D5: 60 | E5: 1,17 | F5: 1,00 | G5: 1 buc. Laptop Dell, sistem de sonorizare, proiector multimedia, ecran de proiectie. | H5: Laptop Dell Latitude E6420,proiector BenqMp625P | I5: Laptop-2012 Proiector-2009
A6: =+A5+1 -> 2 | B6: Aula Magna – sală proiecţii (B101) | C6: Calea Turzii nr. 4., etaj 1. 195.88 mp | D6: 188 | E6: 1,04 | F6: 1,00 | G6: 1buc Calculator, videoproiector, Sistem de sonorizare, tablă | H6: Calculator Hp Prodesk 400 G4 proiector FullHD Panasonic Videoproiector Optoma UHD38x | I6: 2018, Proiector Optoma 2025
A7: =+A6+1 -> 3 | B7: Sală curs (A105) | C7: Calea Turzii nr. 4., etaj 1. 64.36 mp | D7: 42 | E7: 1,53 | F7: 1,00 | G7: 1 buc. Calculator desktop cu monitor, proiector multimedia, ecran de proiectie | H7: Calculator: ASUS ExpertCenter D700SA, I5 gen 10., 8gb Ram, 256 GB SSD,monitor Lg LCD 22", Proiector Epson EB-FH52 Full HD | I7: Calculator-2023 Proiector-2023
A8: =+A7+1 -> 4 | B8: Sală seminar (A104) | C8: Calea Turzii nr. 4., etaj 1. 53.97 mp | D8: 24 | E8: 2,24 | F8: 1,40 | G8: 1 buc. Calculator desktop cu monitor, proiector multimedia, ecran de proiectie | H8: Calculator: ASUS ExpertCenter D700SA, I5 gen 10., 8gb Ram, 256 GB SSD,monitor Lg LCD 22", Proiector Benq-x41 | I8: Calculator-2023 Proiector-2014
A9: =+A8+1 -> 5 | B9: Sală curs (A204) | C9: Calea Turzii nr. 4., etaj 2. 64.36 mp | D9: 42 | E9: 1,53 | F9: 1,00 | G9: 1 buc. Calculator desktop cu monitor, proiector multimedia, ecran de proiectie | H9: ASUS ExpertCenter D700SA, I5 gen 10., 8gb Ram, 256 GB SSD Monitor 21" cu difuzor intergrat, proiector Proiector Benq-x41 | I9: Calculator-2023 Proiector-2014
A10: =+A9+1 -> 6 | B10: Sală seminarii (A203) | C10: Calea Turzii nr. 4., etaj 2. 53.97 mp | D10: 24 | E10: 2,24 | F10: 1,40 | G10: 1 buc. Calculator desktop cu monitor, proiector multimedia, ecran de proiectie | H10: ASUS ExpertCenter D700SA, I5 gen 10., 8gb Ram, 256 GB SSD,Proiector Benq-x41 | I10: Calculator-2023 Proiector-2014
A11: =+A10+1 -> 7 | B11: Sală curs (A303) | C11: Calea Turzii nr. 4., etaj 3. 69.67 mp | D11: 44 | E11: 1,58 | F11: 1,00 | G11: 1 buc. Calculator desktop cu monitor, proiector multimedia, ecran de proiectie | H11: Pc Dell Vostro 3470 , ssd 256 Gb, I5, Monitor Aoc 21,5",Proiector Benq-x41 | I11: Calculator-2023 Proiector-2014
A12: =+A11+1 -> 8 | B12: Sală curs (B301) | C12: Calea Turzii nr. 4., etaj 3. 68.95 mp | D12: 44 | E12: 1,56 | F12: 1,00 | G12: 1 buc. Calculator desktop cu monitor, proiector multimedia, ecran de proiectie | H12: ASUS ExpertCenter D700SA, I5 gen 10., 8gb Ram, 256 GB SSD, Monitor 21" cu difuzor intergrat, proiector Benq625p | I12: Calculator-2023 Proiector-2014
A13: =+A12+1 -> 9 | B13: Sală simulare judecătorie (B302) | C13: Calea Turzii nr. 4., etaj 3. 69.36 mp | D13: 34 | E13: 2,04 | F13: 1,40 | G13: 1 buc. Calculator desktop cu monitor, proiector multimedia, ecran de proiectie | H13: Pc Dell Vostro 3470 , ssd 256 Gb, I5, Monitor Aoc 21,5" | I13: Calculator-2018 Proiector-2014
A14: =+A13+1 -> 10 | B14: Sală seminar (B506) | C14: Calea Turzii nr. 4., etaj 5. 24.94 mp | D14: 12 | E14: 2,07 | F14: 1,40 | G14: 1 buc. Calculator desktop tip multimedia, Televizor smart | H14: Calculator desktop Intel i7 generatia 11, 16GB ram, 1 Tb SSD, Nvidia RTX 3060 ,Televizor OLED 55 inch 4k smart LG | I14: Calculator-2024 Televizor-2024
A15: =+A14+1 -> 11 | B15: Sală de curs | C15: Str. Emil Racovita nr. 30 64.79 mp | D15: 60 | E15: 1.07 | F15: 1,00 | G15: 1 buc. Calculator, sistem de sonorizare, proiector multimedia, ecran de proiectie. | H15: Calculator - Sistem PC Starkames Cyan Core i5 cu monitor LED IPS LG 21.5", boxe, - 1 buc | I15: 2018
A16: =+A15+1 -> 12 | B16: Sală de dans (M113) | C16: Piața Unirii 29 130,52 mp. | D16: 15 | E16: 8.7 | G16: 1 buc. Laptop Asusl, sistem de sonorizare, Televizor smart | H16: Laptop Asus 15.6 | I16: 2020
A17: =+A16+1 -> 13 | B17: Kallos Zoltán - sală de evenumente | C17: Piața Unirii 29 223,47 mp | D17: 100 | E17: 2.23 | G17: 1 buc. Laptop Dell, sistem de sonorizare, Televizor smart | H17: Dell ispiron, I5 3460, 8 Gb Ram, 500 Gb Hdd | I17: 2023
A18: =+A17+1 -> 14 | B18: Sala de seminar (104) | C18: Piața Unirii 29 36.19 mp | D18: 18 | E18: 2.01 | G18: 1 buc. Calculator desktop cu monitor, proiector multimedia | H18: Calculator: ASUS ExpertCenter D700SA, I5 gen 10., 8gb Ram, 256 GB SSD,monitor Lg LCD 22", Proiector Acer X138WHP | I18: Calculator-2023 Proiector-2023
A19: =+A18+1 -> 15 | B19: Sala de seminar (106) | C19: Piața Unirii 29 27.1 mp. | D19: 12 | E19: 2.26 | G19: 1 buc. Calculator desktop cu monitor, casti multimedia | H19: Calculator Dell Vostro 3470 Intel Core i5-9400, 8GB, SSD 256GB, Intel UHD Graphics 630, Windows 11 Pro , Monitor Aoc 22P1D 21.5" | I19: Calculator-2023
A20: =+A19+1 -> 16 | B20: Sala de seminar (107) | C20: Piața Unirii 29 32.61 mp | D20: 12 | E20: 2.72 | G20: 1 buc. Calculator desktop cu monitor, proiector multimedia | H20: Calculator: ASUS ExpertCenter D700SA, I5 gen 10., 8gb Ram, 256 GB SSD,monitor Lg LCD 22", Proiector Acer X138WHP | I20: Calculator-2023 Proiector-2023
A21: =+A20+1 -> 17 | B21: Sală seminar (109) | C21: Piața Unirii 29 43,95 mp | D21: 15 | E21: 2.93 | G21: 1 buc. Calculator desktop cu monitor, proiector multimedia | H21: Calculator Dell Vostro 3470 Intel Core i5-9400, 8GB, SSD 256GB, Intel UHD Graphics 630, Windows 10 Pro , Monitor Aoc 22P1D 21.5", Proiector Benq-x41 | I21: Calculator-2022 Proiector-2022
